BEGIN:VCALENDAR
VERSION:1.0
BEGIN:VEVENT
DTSTART:20250906T120000
DTEND:20250906T130000
SUMMARY:Leonardo DRS vs. Oncor
DESCRIPTION:C Division - City of Richardson Corporate Challenge<br>Sponsored by State Farm
LOCATION:Keffler Field #4   (Breckinridge Park)
CATEGORIES:QuickScores; Flag Football Game
TRANSP:0
DALARM:20250906T100000;PT10M;2;Leonardo DRS vs. Oncor
END:VEVENT
BEGIN:VEVENT
DTSTART:20250906T140000
DTEND:20250906T150000
SUMMARY:Leonardo DRS vs. ISN
DESCRIPTION:C Division - City of Richardson Corporate Challenge<br>Sponsored by State Farm
LOCATION:Keffler Field #2   (Breckinridge Park)
CATEGORIES:QuickScores; Flag Football Game
TRANSP:0
DALARM:20250906T120000;PT10M;2;Leonardo DRS vs. ISN
END:VEVENT
BEGIN:VEVENT
DTSTART:20250906T190000
DTEND:20250906T200000
SUMMARY:UTD vs. Leonardo DRS
DESCRIPTION:C Division - City of Richardson Corporate Challenge<br>Sponsored by State Farm
LOCATION:Keffler Field #2   (Breckinridge Park)
CATEGORIES:QuickScores; Flag Football Game
TRANSP:0
DALARM:20250906T170000;PT10M;2;UTD vs. Leonardo DRS
END:VEVENT
BEGIN:VEVENT
DTSTART:20250907T120000
DTEND:20250907T130000
SUMMARY:[A1] Hilton vs. [B2] Leonardo DRS
DESCRIPTION:C Division - City of Richardson Corporate Challenge<br>Sponsored by State Farm
LOCATION:Keffler Field #1   (Breckinridge Park)
CATEGORIES:QuickScores; Flag Football Game
TRANSP:0
DALARM:20250907T100000;PT10M;2;[A1] Hilton vs. [B2] Leonardo DRS
END:VEVENT
BEGIN:VEVENT
DTSTART:20250907T140000
DTEND:20250907T150000
SUMMARY:[B2] Leonardo DRS vs. [B1] ISN
DESCRIPTION:C Division - City of Richardson Corporate Challenge<br>Sponsored by State Farm
LOCATION:Keffler Field #2   (Breckinridge Park)
CATEGORIES:QuickScores; Flag Football Game
TRANSP:0
DALARM:20250907T120000;PT10M;2;[B2] Leonardo DRS vs. [B1] ISN
END:VEVENT
END:VCALENDAR
