BEGIN:VCALENDAR
VERSION:1.0
BEGIN:VEVENT
DTSTART:20250906T100000
DTEND:20250906T110000
SUMMARY:7-Eleven vs. Baylor Heart Hospital
DESCRIPTION:B Division - City of Richardson Corporate Challenge<br>Sponsored by State Farm
LOCATION:Keffler Field #3   (Breckinridge Park)
CATEGORIES:QuickScores; Flag Football Game
TRANSP:0
DALARM:20250906T080000;PT10M;2;7-Eleven vs. Baylor Heart Hospital
END:VEVENT
BEGIN:VEVENT
DTSTART:20250906T120000
DTEND:20250906T130000
SUMMARY:Baylor Heart Hospital vs. City of Richardson
DESCRIPTION:B Division - City of Richardson Corporate Challenge<br>Sponsored by State Farm
LOCATION:Keffler Field #2   (Breckinridge Park)
CATEGORIES:QuickScores; Flag Football Game
TRANSP:0
DALARM:20250906T100000;PT10M;2;Baylor Heart Hospital vs. City of Richardson
END:VEVENT
BEGIN:VEVENT
DTSTART:20250906T190000
DTEND:20250906T200000
SUMMARY:Baylor Heart Hospital vs. Geico
DESCRIPTION:B Division - City of Richardson Corporate Challenge<br>Sponsored by State Farm
LOCATION:Keffler Field #1   (Breckinridge Park)
CATEGORIES:QuickScores; Flag Football Game
TRANSP:0
DALARM:20250906T170000;PT10M;2;Baylor Heart Hospital vs. Geico
END:VEVENT
BEGIN:VEVENT
DTSTART:20250907T100000
DTEND:20250907T110000
SUMMARY:[B1] Texas Capital Bank vs. [A2] Baylor Heart Hospital
DESCRIPTION:B Division - City of Richardson Corporate Challenge<br>Sponsored by State Farm
LOCATION:Keffler Field #4   (Breckinridge Park)
CATEGORIES:QuickScores; Flag Football Game
TRANSP:0
DALARM:20250907T080000;PT10M;2;[B1] Texas Capital Bank vs. [A2] Baylor Heart Hospital
END:VEVENT
BEGIN:VEVENT
DTSTART:20250907T110000
DTEND:20250907T120000
SUMMARY:[B2] LJA Engineering vs. [A2] Baylor Heart Hospital
DESCRIPTION:B Division - City of Richardson Corporate Challenge<br>Sponsored by State Farm
LOCATION:Keffler Field #4   (Breckinridge Park)
CATEGORIES:QuickScores; Flag Football Game
TRANSP:0
DALARM:20250907T090000;PT10M;2;[B2] LJA Engineering vs. [A2] Baylor Heart Hospital
END:VEVENT
END:VCALENDAR
