BEGIN:VCALENDAR
VERSION:1.0
BEGIN:VEVENT
DTSTART:20250906T100000
DTEND:20250906T110000
SUMMARY:7-Eleven vs. Baylor Heart Hospital
DESCRIPTION:B Division - City of Richardson Corporate Challenge<br>Sponsored by State Farm
LOCATION:Keffler Field #3   (Breckinridge Park)
CATEGORIES:QuickScores; Flag Football Game
TRANSP:0
DALARM:20250906T080000;PT10M;2;7-Eleven vs. Baylor Heart Hospital
END:VEVENT
BEGIN:VEVENT
DTSTART:20250906T120000
DTEND:20250906T130000
SUMMARY:Geico vs. 7-Eleven
DESCRIPTION:B Division - City of Richardson Corporate Challenge<br>Sponsored by State Farm
LOCATION:Keffler Field #1   (Breckinridge Park)
CATEGORIES:QuickScores; Flag Football Game
TRANSP:0
DALARM:20250906T100000;PT10M;2;Geico vs. 7-Eleven
END:VEVENT
BEGIN:VEVENT
DTSTART:20250906T180000
DTEND:20250906T190000
SUMMARY:City of Richardson vs. 7-Eleven
DESCRIPTION:B Division - City of Richardson Corporate Challenge<br>Sponsored by State Farm
LOCATION:Keffler Field #3   (Breckinridge Park)
CATEGORIES:QuickScores; Flag Football Game
TRANSP:0
DALARM:20250906T160000;PT10M;2;City of Richardson vs. 7-Eleven
END:VEVENT
BEGIN:VEVENT
DTSTART:20250907T100000
DTEND:20250907T110000
SUMMARY:[A1] 7-Eleven vs. [B2] LJA Engineering
DESCRIPTION:B Division - City of Richardson Corporate Challenge<br>Sponsored by State Farm
LOCATION:Keffler Field #3   (Breckinridge Park)
CATEGORIES:QuickScores; Flag Football Game
TRANSP:0
DALARM:20250907T080000;PT10M;2;[A1] 7-Eleven vs. [B2] LJA Engineering
END:VEVENT
BEGIN:VEVENT
DTSTART:20250907T110000
DTEND:20250907T120000
SUMMARY:[A1] 7-Eleven vs. [B1] Texas Capital Bank
DESCRIPTION:B Division - City of Richardson Corporate Challenge<br>Sponsored by State Farm
LOCATION:Keffler Field #1   (Breckinridge Park)
CATEGORIES:QuickScores; Flag Football Game
TRANSP:0
DALARM:20250907T090000;PT10M;2;[A1] 7-Eleven vs. [B1] Texas Capital Bank
END:VEVENT
END:VCALENDAR
