BEGIN:VCALENDAR
VERSION:1.0
BEGIN:VEVENT
DTSTART:20250905T183000
DTEND:20250905T193000
SUMMARY:State Farm vs. Pepsi Co
DESCRIPTION:A Division - City of Richardson Corporate Challenge<br>Sponsored by State Farm
LOCATION:Keffler Field #2   (Breckinridge Park)
CATEGORIES:QuickScores; Flag Football Game
TRANSP:0
DALARM:20250905T163000;PT10M;2;State Farm vs. Pepsi Co
END:VEVENT
BEGIN:VEVENT
DTSTART:20250906T110000
DTEND:20250906T120000
SUMMARY:RTX vs. State Farm
DESCRIPTION:A Division - City of Richardson Corporate Challenge<br>Sponsored by State Farm
LOCATION:Keffler Field #3   (Breckinridge Park)
CATEGORIES:QuickScores; Flag Football Game
TRANSP:0
DALARM:20250906T090000;PT10M;2;RTX vs. State Farm
END:VEVENT
BEGIN:VEVENT
DTSTART:20250907T100000
DTEND:20250907T110000
SUMMARY:[B2] State Farm vs. [C2] KPMG
DESCRIPTION:A Division - City of Richardson Corporate Challenge<br>Sponsored by State Farm
LOCATION:Keffler Field #1   (Breckinridge Park)
CATEGORIES:QuickScores; Flag Football Game
TRANSP:0
DALARM:20250907T080000;PT10M;2;[B2] State Farm vs. [C2] KPMG
END:VEVENT
END:VCALENDAR
