BEGIN:VCALENDAR
VERSION:1.0
BEGIN:VEVENT
DTSTART:20250905T183000
DTEND:20250905T193000
SUMMARY:McKesson vs. Lennox
DESCRIPTION:A Division - City of Richardson Corporate Challenge<br>Sponsored by State Farm
LOCATION:Keffler Field #3   (Breckinridge Park)
CATEGORIES:QuickScores; Flag Football Game
TRANSP:0
DALARM:20250905T163000;PT10M;2;McKesson vs. Lennox
END:VEVENT
BEGIN:VEVENT
DTSTART:20250906T090000
DTEND:20250906T100000
SUMMARY:Blue Cross Blue Shield vs. McKesson
DESCRIPTION:A Division - City of Richardson Corporate Challenge<br>Sponsored by State Farm
LOCATION:Keffler Field #1   (Breckinridge Park)
CATEGORIES:QuickScores; Flag Football Game
TRANSP:0
DALARM:20250906T070000;PT10M;2;Blue Cross Blue Shield vs. McKesson
END:VEVENT
BEGIN:VEVENT
DTSTART:20250907T100000
DTEND:20250907T110000
SUMMARY:[C1] Texas Instruments vs. [A2] McKesson
DESCRIPTION:A Division - City of Richardson Corporate Challenge<br>Sponsored by State Farm
LOCATION:Keffler Field #2   (Breckinridge Park)
CATEGORIES:QuickScores; Flag Football Game
TRANSP:0
DALARM:20250907T080000;PT10M;2;[C1] Texas Instruments vs. [A2] McKesson
END:VEVENT
END:VCALENDAR
