BEGIN:VCALENDAR
VERSION:1.0
BEGIN:VEVENT
DTSTART:20250905T183000
DTEND:20250905T193000
SUMMARY:McKesson vs. Lennox
DESCRIPTION:A Division - City of Richardson Corporate Challenge<br>Sponsored by State Farm
LOCATION:Keffler Field #3   (Breckinridge Park)
CATEGORIES:QuickScores; Flag Football Game
TRANSP:0
DALARM:20250905T163000;PT10M;2;McKesson vs. Lennox
END:VEVENT
BEGIN:VEVENT
DTSTART:20250906T110000
DTEND:20250906T120000
SUMMARY:Lennox vs. Blue Cross Blue Shield
DESCRIPTION:A Division - City of Richardson Corporate Challenge<br>Sponsored by State Farm
LOCATION:Keffler Field #2   (Breckinridge Park)
CATEGORIES:QuickScores; Flag Football Game
TRANSP:0
DALARM:20250906T090000;PT10M;2;Lennox vs. Blue Cross Blue Shield
END:VEVENT
BEGIN:VEVENT
DTSTART:20250907T110000
DTEND:20250907T120000
SUMMARY:[A1] Lennox vs. [C2] KPMG
DESCRIPTION:A Division - City of Richardson Corporate Challenge<br>Sponsored by State Farm
LOCATION:Keffler Field #3   (Breckinridge Park)
CATEGORIES:QuickScores; Flag Football Game
TRANSP:0
DALARM:20250907T090000;PT10M;2;[A1] Lennox vs. [C2] KPMG
END:VEVENT
BEGIN:VEVENT
DTSTART:20250907T130000
DTEND:20250907T140000
SUMMARY:[A1] Lennox vs. [B1] RTX
DESCRIPTION:A Division - City of Richardson Corporate Challenge<br>Sponsored by State Farm
LOCATION:Keffler Field #2   (Breckinridge Park)
CATEGORIES:QuickScores; Flag Football Game
TRANSP:0
DALARM:20250907T110000;PT10M;2;[A1] Lennox vs. [B1] RTX
END:VEVENT
END:VCALENDAR
