BEGIN:VCALENDAR
VERSION:1.0
BEGIN:VEVENT
DTSTART:20250812T183000
DTEND:20250812T183100
SUMMARY:Stryker vs. Ally
DESCRIPTION:Division D - City of Richardson Corporate Challenge<br>Sponsored by State Farm
LOCATION:Heights Rec Center
CATEGORIES:QuickScores; Dodgeball Game
TRANSP:0
DALARM:20250812T163000;PT10M;2;Stryker vs. Ally
END:VEVENT
BEGIN:VEVENT
DTSTART:20250812T183400
DTEND:20250812T183500
SUMMARY:Ally vs. Sendero Consulting
DESCRIPTION:Division D - City of Richardson Corporate Challenge<br>Sponsored by State Farm
LOCATION:Heights Rec Center
CATEGORIES:QuickScores; Dodgeball Game
TRANSP:0
DALARM:20250812T163400;PT10M;2;Ally vs. Sendero Consulting
END:VEVENT
BEGIN:VEVENT
DTSTART:20250812T183600
DTEND:20250812T183700
SUMMARY:Ally vs. Analog Devices
DESCRIPTION:Division D - City of Richardson Corporate Challenge<br>Sponsored by State Farm
LOCATION:Heights Rec Center
CATEGORIES:QuickScores; Dodgeball Game
TRANSP:0
DALARM:20250812T163600;PT10M;2;Ally vs. Analog Devices
END:VEVENT
END:VCALENDAR
