BEGIN:VCALENDAR
VERSION:1.0
BEGIN:VEVENT
DTSTART:20250812T183300
DTEND:20250812T193300
SUMMARY:Oncor vs. Leonardo DRS
DESCRIPTION:Division C - City of Richardson Corporate Challenge<br>Sponsored by State Farm
LOCATION:Huffhines Rec Center
CATEGORIES:QuickScores; Dodgeball Game
TRANSP:0
DALARM:20250812T163300;PT10M;2;Oncor vs. Leonardo DRS
END:VEVENT
BEGIN:VEVENT
DTSTART:20250812T183700
DTEND:20250812T193700
SUMMARY:Fossil vs. Leonardo DRS
DESCRIPTION:Division C - City of Richardson Corporate Challenge<br>Sponsored by State Farm
LOCATION:Huffhines Rec Center
CATEGORIES:QuickScores; Dodgeball Game
TRANSP:0
DALARM:20250812T163700;PT10M;2;Fossil vs. Leonardo DRS
END:VEVENT
BEGIN:VEVENT
DTSTART:20250812T184000
DTEND:20250812T194000
SUMMARY:Leonardo DRS vs. Hilton
DESCRIPTION:Division C - City of Richardson Corporate Challenge<br>Sponsored by State Farm
LOCATION:Huffhines Rec Center
CATEGORIES:QuickScores; Dodgeball Game
TRANSP:0
DALARM:20250812T164000;PT10M;2;Leonardo DRS vs. Hilton
END:VEVENT
END:VCALENDAR
