BEGIN:VCALENDAR
VERSION:1.0
BEGIN:VEVENT
DTSTART:20250812T183100
DTEND:20250812T193100
SUMMARY:ISN vs. UTD
DESCRIPTION:Division C - City of Richardson Corporate Challenge<br>Sponsored by State Farm
LOCATION:Huffhines Rec Center
CATEGORIES:QuickScores; Dodgeball Game
TRANSP:0
DALARM:20250812T163100;PT10M;2;ISN vs. UTD
END:VEVENT
BEGIN:VEVENT
DTSTART:20250812T183500
DTEND:20250812T193500
SUMMARY:Freese and Nichols vs. ISN
DESCRIPTION:Division C - City of Richardson Corporate Challenge<br>Sponsored by State Farm
LOCATION:Huffhines Rec Center
CATEGORIES:QuickScores; Dodgeball Game
TRANSP:0
DALARM:20250812T163500;PT10M;2;Freese and Nichols vs. ISN
END:VEVENT
BEGIN:VEVENT
DTSTART:20250812T183900
DTEND:20250812T193900
SUMMARY:ISN vs. Credit Union of Texas
DESCRIPTION:Division C - City of Richardson Corporate Challenge<br>Sponsored by State Farm
LOCATION:Huffhines Rec Center
CATEGORIES:QuickScores; Dodgeball Game
TRANSP:0
DALARM:20250812T163900;PT10M;2;ISN vs. Credit Union of Texas
END:VEVENT
BEGIN:VEVENT
DTSTART:20250812T000000
DTEND:20250812T000000
SUMMARY:[B1] Hilton vs. [A2] ISN
DESCRIPTION:Division C - City of Richardson Corporate Challenge<br>Sponsored by State Farm
CATEGORIES:QuickScores; Dodgeball Game
TRANSP:0
DALARM:20250812T000000;PT10M;2;[B1] Hilton vs. [A2] ISN
END:VEVENT
BEGIN:VEVENT
DTSTART:20250812T000000
DTEND:20250812T000000
SUMMARY:[B2] Fossil vs. [A2] ISN
DESCRIPTION:Division C - City of Richardson Corporate Challenge<br>Sponsored by State Farm
CATEGORIES:QuickScores; Dodgeball Game
TRANSP:0
DALARM:20250812T000000;PT10M;2;[B2] Fossil vs. [A2] ISN
END:VEVENT
END:VCALENDAR
