BEGIN:VCALENDAR
VERSION:1.0
BEGIN:VEVENT
DTSTART:20250812T183200
DTEND:20250812T193200
SUMMARY:Hilton vs. Fossil
DESCRIPTION:Division C - City of Richardson Corporate Challenge<br>Sponsored by State Farm
LOCATION:Huffhines Rec Center
CATEGORIES:QuickScores; Dodgeball Game
TRANSP:0
DALARM:20250812T163200;PT10M;2;Hilton vs. Fossil
END:VEVENT
BEGIN:VEVENT
DTSTART:20250812T183600
DTEND:20250812T193600
SUMMARY:Oncor vs. Hilton
DESCRIPTION:Division C - City of Richardson Corporate Challenge<br>Sponsored by State Farm
LOCATION:Huffhines Rec Center
CATEGORIES:QuickScores; Dodgeball Game
TRANSP:0
DALARM:20250812T163600;PT10M;2;Oncor vs. Hilton
END:VEVENT
BEGIN:VEVENT
DTSTART:20250812T184000
DTEND:20250812T194000
SUMMARY:Leonardo DRS vs. Hilton
DESCRIPTION:Division C - City of Richardson Corporate Challenge<br>Sponsored by State Farm
LOCATION:Huffhines Rec Center
CATEGORIES:QuickScores; Dodgeball Game
TRANSP:0
DALARM:20250812T164000;PT10M;2;Leonardo DRS vs. Hilton
END:VEVENT
BEGIN:VEVENT
DTSTART:20250812T000000
DTEND:20250812T000000
SUMMARY:[B1] Hilton vs. [A2] ISN
DESCRIPTION:Division C - City of Richardson Corporate Challenge<br>Sponsored by State Farm
CATEGORIES:QuickScores; Dodgeball Game
TRANSP:0
DALARM:20250812T000000;PT10M;2;[B1] Hilton vs. [A2] ISN
END:VEVENT
BEGIN:VEVENT
DTSTART:20250812T000000
DTEND:20250812T000000
SUMMARY:[A1] Freese and Nichols vs. [B1] Hilton
DESCRIPTION:Division C - City of Richardson Corporate Challenge<br>Sponsored by State Farm
CATEGORIES:QuickScores; Dodgeball Game
TRANSP:0
DALARM:20250812T000000;PT10M;2;[A1] Freese and Nichols vs. [B1] Hilton
END:VEVENT
END:VCALENDAR
