BEGIN:VCALENDAR
VERSION:1.0
BEGIN:VEVENT
DTSTART:20250812T183000
DTEND:20250812T193000
SUMMARY:Credit Union of Texas vs. Freese and Nichols
DESCRIPTION:Division C - City of Richardson Corporate Challenge<br>Sponsored by State Farm
LOCATION:Huffhines Rec Center
CATEGORIES:QuickScores; Dodgeball Game
TRANSP:0
DALARM:20250812T163000;PT10M;2;Credit Union of Texas vs. Freese and Nichols
END:VEVENT
BEGIN:VEVENT
DTSTART:20250812T183400
DTEND:20250812T193400
SUMMARY:UTD vs. Credit Union of Texas
DESCRIPTION:Division C - City of Richardson Corporate Challenge<br>Sponsored by State Farm
LOCATION:Huffhines Rec Center
CATEGORIES:QuickScores; Dodgeball Game
TRANSP:0
DALARM:20250812T163400;PT10M;2;UTD vs. Credit Union of Texas
END:VEVENT
BEGIN:VEVENT
DTSTART:20250812T183900
DTEND:20250812T193900
SUMMARY:ISN vs. Credit Union of Texas
DESCRIPTION:Division C - City of Richardson Corporate Challenge<br>Sponsored by State Farm
LOCATION:Huffhines Rec Center
CATEGORIES:QuickScores; Dodgeball Game
TRANSP:0
DALARM:20250812T163900;PT10M;2;ISN vs. Credit Union of Texas
END:VEVENT
END:VCALENDAR
