BEGIN:VCALENDAR
VERSION:1.0
BEGIN:VEVENT
DTSTART:20250811T183200
DTEND:20250811T183300
SUMMARY:Texas Capital Bank vs. LJA Engineering
DESCRIPTION:Division B - City of Richardson Corporate Challenge<br>Sponsored by State Farm
LOCATION:Heights Rec Center
CATEGORIES:QuickScores; Dodgeball Game
TRANSP:0
DALARM:20250811T163200;PT10M;2;Texas Capital Bank vs. LJA Engineering
END:VEVENT
BEGIN:VEVENT
DTSTART:20250811T183800
DTEND:20250811T183900
SUMMARY:HF Sinclair vs. Texas Capital Bank
DESCRIPTION:Division B - City of Richardson Corporate Challenge<br>Sponsored by State Farm
LOCATION:Heights Rec Center
CATEGORIES:QuickScores; Dodgeball Game
TRANSP:0
DALARM:20250811T163800;PT10M;2;HF Sinclair vs. Texas Capital Bank
END:VEVENT
BEGIN:VEVENT
DTSTART:20250811T000000
DTEND:20250811T000000
SUMMARY:[B2] City of Richardson vs. [C2] Texas Capital Bank
DESCRIPTION:Division B - City of Richardson Corporate Challenge<br>Sponsored by State Farm
CATEGORIES:QuickScores; Dodgeball Game
TRANSP:0
DALARM:20250811T000000;PT10M;2;[B2] City of Richardson vs. [C2] Texas Capital Bank
END:VEVENT
END:VCALENDAR
