BEGIN:VCALENDAR
VERSION:1.0
BEGIN:VEVENT
DTSTART:20250811T183000
DTEND:20250811T183100
SUMMARY:Cisco vs. Baylor Heart Hospital
DESCRIPTION:Division B - City of Richardson Corporate Challenge<br>Sponsored by State Farm
LOCATION:Heights Rec Center
CATEGORIES:QuickScores; Dodgeball Game
TRANSP:0
DALARM:20250811T163000;PT10M;2;Cisco vs. Baylor Heart Hospital
END:VEVENT
BEGIN:VEVENT
DTSTART:20250811T183600
DTEND:20250811T183700
SUMMARY:7-Eleven vs. Cisco
DESCRIPTION:Division B - City of Richardson Corporate Challenge<br>Sponsored by State Farm
LOCATION:Heights Rec Center
CATEGORIES:QuickScores; Dodgeball Game
TRANSP:0
DALARM:20250811T163600;PT10M;2;7-Eleven vs. Cisco
END:VEVENT
END:VCALENDAR
