BEGIN:VCALENDAR
VERSION:1.0
BEGIN:VEVENT
DTSTART:20250811T183300
DTEND:20250811T183400
SUMMARY:Baylor Heart Hospital vs. 7-Eleven
DESCRIPTION:Division B - City of Richardson Corporate Challenge<br>Sponsored by State Farm
LOCATION:Heights Rec Center
CATEGORIES:QuickScores; Dodgeball Game
TRANSP:0
DALARM:20250811T163300;PT10M;2;Baylor Heart Hospital vs. 7-Eleven
END:VEVENT
BEGIN:VEVENT
DTSTART:20250811T183600
DTEND:20250811T183700
SUMMARY:7-Eleven vs. Cisco
DESCRIPTION:Division B - City of Richardson Corporate Challenge<br>Sponsored by State Farm
LOCATION:Heights Rec Center
CATEGORIES:QuickScores; Dodgeball Game
TRANSP:0
DALARM:20250811T163600;PT10M;2;7-Eleven vs. Cisco
END:VEVENT
BEGIN:VEVENT
DTSTART:20250811T000000
DTEND:20250811T000000
SUMMARY:[C1] LJA Engineering vs. [A2] 7-Eleven
DESCRIPTION:Division B - City of Richardson Corporate Challenge<br>Sponsored by State Farm
CATEGORIES:QuickScores; Dodgeball Game
TRANSP:0
DALARM:20250811T000000;PT10M;2;[C1] LJA Engineering vs. [A2] 7-Eleven
END:VEVENT
BEGIN:VEVENT
DTSTART:20250811T000000
DTEND:20250811T000000
SUMMARY:[B1] Geico vs. [A2] 7-Eleven
DESCRIPTION:Division B - City of Richardson Corporate Challenge<br>Sponsored by State Farm
CATEGORIES:QuickScores; Dodgeball Game
TRANSP:0
DALARM:20250811T000000;PT10M;2;[B1] Geico vs. [A2] 7-Eleven
END:VEVENT
BEGIN:VEVENT
DTSTART:20250811T000000
DTEND:20250811T000000
SUMMARY:[B2] City of Richardson vs. [A2] 7-Eleven
DESCRIPTION:Division B - City of Richardson Corporate Challenge<br>Sponsored by State Farm
CATEGORIES:QuickScores; Dodgeball Game
TRANSP:0
DALARM:20250811T000000;PT10M;2;[B2] City of Richardson vs. [A2] 7-Eleven
END:VEVENT
END:VCALENDAR
