BEGIN:VCALENDAR
VERSION:1.0
BEGIN:VEVENT
DTSTART:20250816T120000
DTEND:20250816T130000
SUMMARY:Continental Electronics vs. Moss Adams x Baker Tilly
DESCRIPTION:Division F - City of Richardson Corporate Challenge<br>Sponsored by State Farm
LOCATION:PSA Murphy Court 3
CATEGORIES:QuickScores; Basketball Game
TRANSP:0
DALARM:20250816T100000;PT10M;2;Continental Electronics vs. Moss Adams x Baker Tilly
END:VEVENT
BEGIN:VEVENT
DTSTART:20250817T100000
DTEND:20250817T110000
SUMMARY:BMO Bank vs. Moss Adams x Baker Tilly
DESCRIPTION:Division F - City of Richardson Corporate Challenge<br>Sponsored by State Farm
LOCATION:PSA Murphy Court 2
CATEGORIES:QuickScores; Basketball Game
TRANSP:0
DALARM:20250817T080000;PT10M;2;BMO Bank vs. Moss Adams x Baker Tilly
END:VEVENT
BEGIN:VEVENT
DTSTART:20250817T120000
DTEND:20250817T130000
SUMMARY:Moss Adams x Baker Tilly vs. Amazon Web Services
DESCRIPTION:Division F - City of Richardson Corporate Challenge<br>Sponsored by State Farm
LOCATION:PSA Murphy Court 3
CATEGORIES:QuickScores; Basketball Game
TRANSP:0
DALARM:20250817T100000;PT10M;2;Moss Adams x Baker Tilly vs. Amazon Web Services
END:VEVENT
END:VCALENDAR
