BEGIN:VCALENDAR
VERSION:1.0
BEGIN:VEVENT
DTSTART:20250814T210000
DTEND:20250814T220000
SUMMARY:Firehawk Aerospace vs. BMO Bank
DESCRIPTION:Division F - City of Richardson Corporate Challenge<br>Sponsored by State Farm
LOCATION:PSA Murphy Court 4
CATEGORIES:QuickScores; Basketball Game
TRANSP:0
DALARM:20250814T190000;PT10M;2;Firehawk Aerospace vs. BMO Bank
END:VEVENT
BEGIN:VEVENT
DTSTART:20250817T100000
DTEND:20250817T110000
SUMMARY:Firehawk Aerospace vs. Amazon Web Services
DESCRIPTION:Division F - City of Richardson Corporate Challenge<br>Sponsored by State Farm
LOCATION:PSA Murphy Court 3
CATEGORIES:QuickScores; Basketball Game
TRANSP:0
DALARM:20250817T080000;PT10M;2;Firehawk Aerospace vs. Amazon Web Services
END:VEVENT
BEGIN:VEVENT
DTSTART:20250817T120000
DTEND:20250817T130000
SUMMARY:Airbus vs. Firehawk Aerospace
DESCRIPTION:Division F - City of Richardson Corporate Challenge<br>Sponsored by State Farm
LOCATION:PSA Murphy Court 2
CATEGORIES:QuickScores; Basketball Game
TRANSP:0
DALARM:20250817T100000;PT10M;2;Airbus vs. Firehawk Aerospace
END:VEVENT
END:VCALENDAR
