BEGIN:VCALENDAR
VERSION:1.0
BEGIN:VEVENT
DTSTART:20250816T130000
DTEND:20250816T140000
SUMMARY:Torq vs. Evolv
DESCRIPTION:Division E - City of Richardson Corporate Challenge<br>Sponsored by State Farm
LOCATION:PSA Murphy Court 1
CATEGORIES:QuickScores; Basketball Game
TRANSP:0
DALARM:20250816T110000;PT10M;2;Torq vs. Evolv
END:VEVENT
BEGIN:VEVENT
DTSTART:20250817T110000
DTEND:20250817T120000
SUMMARY:Savoya vs. Torq
DESCRIPTION:Division E - City of Richardson Corporate Challenge<br>Sponsored by State Farm
LOCATION:PSA Murphy Court 1
CATEGORIES:QuickScores; Basketball Game
TRANSP:0
DALARM:20250817T090000;PT10M;2;Savoya vs. Torq
END:VEVENT
BEGIN:VEVENT
DTSTART:20250823T090000
DTEND:20250823T100000
SUMMARY:[A1] National Life Group vs. [B2] Torq
DESCRIPTION:Division E - City of Richardson Corporate Challenge<br>Sponsored by State Farm
LOCATION:PSA1 Court #4
CATEGORIES:QuickScores; Basketball Game
TRANSP:0
DALARM:20250823T070000;PT10M;2;[A1] National Life Group vs. [B2] Torq
END:VEVENT
BEGIN:VEVENT
DTSTART:20250823T110000
DTEND:20250823T120000
SUMMARY:[B2] Torq vs. [A2] The Godsey Law Firm
DESCRIPTION:Division E - City of Richardson Corporate Challenge<br>Sponsored by State Farm
LOCATION:PSA1 Court #2
CATEGORIES:QuickScores; Basketball Game
TRANSP:0
DALARM:20250823T090000;PT10M;2;[B2] Torq vs. [A2] The Godsey Law Firm
END:VEVENT
END:VCALENDAR
