BEGIN:VCALENDAR
VERSION:1.0
BEGIN:VEVENT
DTSTART:20250816T130000
DTEND:20250816T140000
SUMMARY:FM vs. REPKON USA
DESCRIPTION:Division E - City of Richardson Corporate Challenge<br>Sponsored by State Farm
LOCATION:PSA Murphy Court 3
CATEGORIES:QuickScores; Basketball Game
TRANSP:0
DALARM:20250816T110000;PT10M;2;FM vs. REPKON USA
END:VEVENT
BEGIN:VEVENT
DTSTART:20250817T110000
DTEND:20250817T120000
SUMMARY:REPKON USA vs. The Godsey Law Firm
DESCRIPTION:Division E - City of Richardson Corporate Challenge<br>Sponsored by State Farm
LOCATION:PSA Murphy Court 3
CATEGORIES:QuickScores; Basketball Game
TRANSP:0
DALARM:20250817T090000;PT10M;2;REPKON USA vs. The Godsey Law Firm
END:VEVENT
END:VCALENDAR
