BEGIN:VCALENDAR
VERSION:1.0
BEGIN:VEVENT
DTSTART:20250814T190000
DTEND:20250814T200000
SUMMARY:HF Sinclair vs. Geico
DESCRIPTION:Division B - City of Richardson Corporate Challenge<br>Sponsored by State Farm
LOCATION:PSA Murphy Court 3
CATEGORIES:QuickScores; Basketball Game
TRANSP:0
DALARM:20250814T170000;PT10M;2;HF Sinclair vs. Geico
END:VEVENT
BEGIN:VEVENT
DTSTART:20250816T100000
DTEND:20250816T110000
SUMMARY:Cisco vs. HF Sinclair
DESCRIPTION:Division B - City of Richardson Corporate Challenge<br>Sponsored by State Farm
LOCATION:PSA Murphy Court 1
CATEGORIES:QuickScores; Basketball Game
TRANSP:0
DALARM:20250816T080000;PT10M;2;Cisco vs. HF Sinclair
END:VEVENT
BEGIN:VEVENT
DTSTART:20250822T200000
DTEND:20250822T210000
SUMMARY:[B2] HF Sinclair vs. [C2] LJA Engineering
DESCRIPTION:Division B - City of Richardson Corporate Challenge<br>Sponsored by State Farm
LOCATION:PSA1 Court #4
CATEGORIES:QuickScores; Basketball Game
TRANSP:0
DALARM:20250822T180000;PT10M;2;[B2] HF Sinclair vs. [C2] LJA Engineering
END:VEVENT
END:VCALENDAR
