BEGIN:VCALENDAR
VERSION:1.0
BEGIN:VEVENT
DTSTART:20250814T190000
DTEND:20250814T200000
SUMMARY:HF Sinclair vs. Geico
DESCRIPTION:Division B - City of Richardson Corporate Challenge<br>Sponsored by State Farm
LOCATION:PSA Murphy Court 3
CATEGORIES:QuickScores; Basketball Game
TRANSP:0
DALARM:20250814T170000;PT10M;2;HF Sinclair vs. Geico
END:VEVENT
BEGIN:VEVENT
DTSTART:20250816T120000
DTEND:20250816T130000
SUMMARY:Geico vs. Cisco
DESCRIPTION:Division B - City of Richardson Corporate Challenge<br>Sponsored by State Farm
LOCATION:PSA Murphy Court 2
CATEGORIES:QuickScores; Basketball Game
TRANSP:0
DALARM:20250816T100000;PT10M;2;Geico vs. Cisco
END:VEVENT
BEGIN:VEVENT
DTSTART:20250823T130000
DTEND:20250823T140000
SUMMARY:[B1] Geico vs. [A2] City of Richardson
DESCRIPTION:Division B - City of Richardson Corporate Challenge<br>Sponsored by State Farm
LOCATION:PSA1 Court #2
CATEGORIES:QuickScores; Basketball Game
TRANSP:0
DALARM:20250823T110000;PT10M;2;[B1] Geico vs. [A2] City of Richardson
END:VEVENT
BEGIN:VEVENT
DTSTART:20250823T150000
DTEND:20250823T160000
SUMMARY:[C2] LJA Engineering vs. [B1] Geico
DESCRIPTION:Division B - City of Richardson Corporate Challenge<br>Sponsored by State Farm
LOCATION:PSA1 Court #4
CATEGORIES:QuickScores; Basketball Game
TRANSP:0
DALARM:20250823T130000;PT10M;2;[C2] LJA Engineering vs. [B1] Geico
END:VEVENT
END:VCALENDAR
