BEGIN:VCALENDAR
VERSION:1.0
BEGIN:VEVENT
DTSTART:20250814T190000
DTEND:20250814T200000
SUMMARY:City of Richardson vs. Texas Capital Bank
DESCRIPTION:Division B - City of Richardson Corporate Challenge<br>Sponsored by State Farm
LOCATION:PSA Murphy Court 1
CATEGORIES:QuickScores; Basketball Game
TRANSP:0
DALARM:20250814T170000;PT10M;2;City of Richardson vs. Texas Capital Bank
END:VEVENT
BEGIN:VEVENT
DTSTART:20250816T100000
DTEND:20250816T110000
SUMMARY:Baylor Heart Hospital vs. City of Richardson
DESCRIPTION:Division B - City of Richardson Corporate Challenge<br>Sponsored by State Farm
LOCATION:PSA Murphy Court 2
CATEGORIES:QuickScores; Basketball Game
TRANSP:0
DALARM:20250816T080000;PT10M;2;Baylor Heart Hospital vs. City of Richardson
END:VEVENT
BEGIN:VEVENT
DTSTART:20250822T200000
DTEND:20250822T210000
SUMMARY:[C1] 7-Eleven vs. [A2] City of Richardson
DESCRIPTION:Division B - City of Richardson Corporate Challenge<br>Sponsored by State Farm
LOCATION:PSA1 Court #2
CATEGORIES:QuickScores; Basketball Game
TRANSP:0
DALARM:20250822T180000;PT10M;2;[C1] 7-Eleven vs. [A2] City of Richardson
END:VEVENT
BEGIN:VEVENT
DTSTART:20250823T130000
DTEND:20250823T140000
SUMMARY:[B1] Geico vs. [A2] City of Richardson
DESCRIPTION:Division B - City of Richardson Corporate Challenge<br>Sponsored by State Farm
LOCATION:PSA1 Court #2
CATEGORIES:QuickScores; Basketball Game
TRANSP:0
DALARM:20250823T110000;PT10M;2;[B1] Geico vs. [A2] City of Richardson
END:VEVENT
BEGIN:VEVENT
DTSTART:20250823T150000
DTEND:20250823T160000
SUMMARY:[A1] Texas Capital Bank vs. [A2] City of Richardson
DESCRIPTION:Division B - City of Richardson Corporate Challenge<br>Sponsored by State Farm
LOCATION:PSA1 Court #2
CATEGORIES:QuickScores; Basketball Game
TRANSP:0
DALARM:20250823T130000;PT10M;2;[A1] Texas Capital Bank vs. [A2] City of Richardson
END:VEVENT
END:VCALENDAR
