BEGIN:VCALENDAR
VERSION:1.0
BEGIN:VEVENT
DTSTART:20250605T193000
DTEND:20250605T203000
SUMMARY:LJA Engineering vs. ISN Swishers
DESCRIPTION:2025 Summer Basketball League - City of Richardson Corporate Challenge<br>Sponsored by State Farm
LOCATION:Huffhines Rec Center
CATEGORIES:QuickScores; Basketball Game
TRANSP:0
DALARM:20250605T173000;PT10M;2;LJA Engineering vs. ISN Swishers
END:VEVENT
BEGIN:VEVENT
DTSTART:20250612T193000
DTEND:20250612T203000
SUMMARY:State Farm vs. LJA Engineering
DESCRIPTION:2025 Summer Basketball League - City of Richardson Corporate Challenge<br>Sponsored by State Farm
LOCATION:Huffhines Rec Center
CATEGORIES:QuickScores; Basketball Game
TRANSP:0
DALARM:20250612T173000;PT10M;2;State Farm vs. LJA Engineering
END:VEVENT
BEGIN:VEVENT
DTSTART:20250619T183000
DTEND:20250619T193000
SUMMARY:LJA Engineering vs. Always Open
DESCRIPTION:2025 Summer Basketball League - City of Richardson Corporate Challenge<br>Sponsored by State Farm
LOCATION:Huffhines Rec Center
CATEGORIES:QuickScores; Basketball Game
TRANSP:0
DALARM:20250619T163000;PT10M;2;LJA Engineering vs. Always Open
END:VEVENT
BEGIN:VEVENT
DTSTART:20250626T203000
DTEND:20250626T213000
SUMMARY:LJA Engineering vs. GEICO
DESCRIPTION:2025 Summer Basketball League - City of Richardson Corporate Challenge<br>Sponsored by State Farm
LOCATION:Huffhines Rec Center
CATEGORIES:QuickScores; Basketball Game
TRANSP:0
DALARM:20250626T183000;PT10M;2;LJA Engineering vs. GEICO
END:VEVENT
BEGIN:VEVENT
DTSTART:20250710T193000
DTEND:20250710T203000
SUMMARY:ISN Swishers vs. LJA Engineering
DESCRIPTION:2025 Summer Basketball League - City of Richardson Corporate Challenge<br>Sponsored by State Farm
LOCATION:Huffhines Rec Center
CATEGORIES:QuickScores; Basketball Game
TRANSP:0
DALARM:20250710T173000;PT10M;2;ISN Swishers vs. LJA Engineering
END:VEVENT
BEGIN:VEVENT
DTSTART:20250717T203000
DTEND:20250717T213000
SUMMARY:LJA Engineering vs. State Farm
DESCRIPTION:2025 Summer Basketball League - City of Richardson Corporate Challenge<br>Sponsored by State Farm
LOCATION:Huffhines Rec Center
CATEGORIES:QuickScores; Basketball Game
TRANSP:0
DALARM:20250717T183000;PT10M;2;LJA Engineering vs. State Farm
END:VEVENT
BEGIN:VEVENT
DTSTART:20250724T203000
DTEND:20250724T213000
SUMMARY:Always Open vs. LJA Engineering
DESCRIPTION:2025 Summer Basketball League - City of Richardson Corporate Challenge<br>Sponsored by State Farm
LOCATION:Huffhines Rec Center
CATEGORIES:QuickScores; Basketball Game
TRANSP:0
DALARM:20250724T183000;PT10M;2;Always Open vs. LJA Engineering
END:VEVENT
BEGIN:VEVENT
DTSTART:20250731T183000
DTEND:20250731T193000
SUMMARY:KPMG vs. LJA Engineering
DESCRIPTION:2025 Summer Basketball League - City of Richardson Corporate Challenge<br>Sponsored by State Farm
LOCATION:Huffhines Rec Center
CATEGORIES:QuickScores; Basketball Game
TRANSP:0
DALARM:20250731T163000;PT10M;2;KPMG vs. LJA Engineering
END:VEVENT
END:VCALENDAR
