BEGIN:VCALENDAR
VERSION:1.0
BEGIN:VEVENT
DTSTART:20250605T193000
DTEND:20250605T203000
SUMMARY:LJA Engineering vs. ISN Swishers
DESCRIPTION:2025 Summer Basketball League - City of Richardson Corporate Challenge<br>Sponsored by State Farm
LOCATION:Huffhines Rec Center
CATEGORIES:QuickScores; Basketball Game
TRANSP:0
DALARM:20250605T173000;PT10M;2;LJA Engineering vs. ISN Swishers
END:VEVENT
BEGIN:VEVENT
DTSTART:20250612T203000
DTEND:20250612T213000
SUMMARY:KPMG vs. ISN Swishers
DESCRIPTION:2025 Summer Basketball League - City of Richardson Corporate Challenge<br>Sponsored by State Farm
LOCATION:Huffhines Rec Center
CATEGORIES:QuickScores; Basketball Game
TRANSP:0
DALARM:20250612T183000;PT10M;2;KPMG vs. ISN Swishers
END:VEVENT
BEGIN:VEVENT
DTSTART:20250619T203000
DTEND:20250619T213000
SUMMARY:State Farm vs. ISN Swishers
DESCRIPTION:2025 Summer Basketball League - City of Richardson Corporate Challenge<br>Sponsored by State Farm
LOCATION:Huffhines Rec Center
CATEGORIES:QuickScores; Basketball Game
TRANSP:0
DALARM:20250619T183000;PT10M;2;State Farm vs. ISN Swishers
END:VEVENT
BEGIN:VEVENT
DTSTART:20250626T183000
DTEND:20250626T193000
SUMMARY:ISN Swishers vs. Always Open
DESCRIPTION:2025 Summer Basketball League - City of Richardson Corporate Challenge<br>Sponsored by State Farm
LOCATION:Huffhines Rec Center
CATEGORIES:QuickScores; Basketball Game
TRANSP:0
DALARM:20250626T163000;PT10M;2;ISN Swishers vs. Always Open
END:VEVENT
BEGIN:VEVENT
DTSTART:20250710T193000
DTEND:20250710T203000
SUMMARY:ISN Swishers vs. LJA Engineering
DESCRIPTION:2025 Summer Basketball League - City of Richardson Corporate Challenge<br>Sponsored by State Farm
LOCATION:Huffhines Rec Center
CATEGORIES:QuickScores; Basketball Game
TRANSP:0
DALARM:20250710T173000;PT10M;2;ISN Swishers vs. LJA Engineering
END:VEVENT
BEGIN:VEVENT
DTSTART:20250717T183000
DTEND:20250717T193000
SUMMARY:ISN Swishers vs. KPMG
DESCRIPTION:2025 Summer Basketball League - City of Richardson Corporate Challenge<br>Sponsored by State Farm
LOCATION:Huffhines Rec Center
CATEGORIES:QuickScores; Basketball Game
TRANSP:0
DALARM:20250717T163000;PT10M;2;ISN Swishers vs. KPMG
END:VEVENT
BEGIN:VEVENT
DTSTART:20250724T183000
DTEND:20250724T193000
SUMMARY:ISN Swishers vs. State Farm
DESCRIPTION:2025 Summer Basketball League - City of Richardson Corporate Challenge<br>Sponsored by State Farm
LOCATION:Huffhines Rec Center
CATEGORIES:QuickScores; Basketball Game
TRANSP:0
DALARM:20250724T163000;PT10M;2;ISN Swishers vs. State Farm
END:VEVENT
BEGIN:VEVENT
DTSTART:20250731T203000
DTEND:20250731T213000
SUMMARY:GEICO vs. ISN Swishers
DESCRIPTION:2025 Summer Basketball League - City of Richardson Corporate Challenge<br>Sponsored by State Farm
LOCATION:Huffhines Rec Center
CATEGORIES:QuickScores; Basketball Game
TRANSP:0
DALARM:20250731T183000;PT10M;2;GEICO vs. ISN Swishers
END:VEVENT
END:VCALENDAR
