BEGIN:VCALENDAR
VERSION:1.0
BEGIN:VEVENT
DTSTART:20251004T090000
DTEND:20251004T100000
SUMMARY:Contelec vs. Firehawk Aerospace
DESCRIPTION:F Division Mixed - City of Richardson Corporate Challenge<br>Sponsored by State Farm
LOCATION:Heights Rec Center
CATEGORIES:QuickScores; Pickleball Game
TRANSP:0
DALARM:20251004T070000;PT10M;2;Contelec vs. Firehawk Aerospace
END:VEVENT
BEGIN:VEVENT
DTSTART:20251004T090000
DTEND:20251004T100000
SUMMARY:BMO vs. Moss Adams/Baker Tilly
DESCRIPTION:F Division Mixed - City of Richardson Corporate Challenge<br>Sponsored by State Farm
LOCATION:Heights Rec Center
CATEGORIES:QuickScores; Pickleball Game
TRANSP:0
DALARM:20251004T070000;PT10M;2;BMO vs. Moss Adams/Baker Tilly
END:VEVENT
BEGIN:VEVENT
DTSTART:20251004T090000
DTEND:20251004T100000
SUMMARY:Airbus vs. Contelec
DESCRIPTION:F Division Mixed - City of Richardson Corporate Challenge<br>Sponsored by State Farm
LOCATION:Heights Rec Center
CATEGORIES:QuickScores; Pickleball Game
TRANSP:0
DALARM:20251004T070000;PT10M;2;Airbus vs. Contelec
END:VEVENT
BEGIN:VEVENT
DTSTART:20251004T090000
DTEND:20251004T100000
SUMMARY:AWS vs. BMO
DESCRIPTION:F Division Mixed - City of Richardson Corporate Challenge<br>Sponsored by State Farm
LOCATION:Heights Rec Center
CATEGORIES:QuickScores; Pickleball Game
TRANSP:0
DALARM:20251004T070000;PT10M;2;AWS vs. BMO
END:VEVENT
END:VCALENDAR
