BEGIN:VCALENDAR
VERSION:1.0
BEGIN:VEVENT
DTSTART:20250915T183000
DTEND:20250915T193000
SUMMARY:AWS vs. BMO
DESCRIPTION:F Division - City of Richardson Corporate Challenge<br>Sponsored by State Farm
LOCATION:Richardson Senior Center
CATEGORIES:QuickScores; Dominoes Game
TRANSP:0
DALARM:20250915T163000;PT10M;2;AWS vs. BMO
END:VEVENT
BEGIN:VEVENT
DTSTART:20250915T183000
DTEND:20250915T193000
SUMMARY:Firehawk Aerospace vs. Moss Adams/Baker Tilly
DESCRIPTION:F Division - City of Richardson Corporate Challenge<br>Sponsored by State Farm
LOCATION:Richardson Senior Center
CATEGORIES:QuickScores; Dominoes Game
TRANSP:0
DALARM:20250915T163000;PT10M;2;Firehawk Aerospace vs. Moss Adams/Baker Tilly
END:VEVENT
BEGIN:VEVENT
DTSTART:20250915T183000
DTEND:20250915T193000
SUMMARY:Airbus 2 vs. Contelec 2
DESCRIPTION:F Division - City of Richardson Corporate Challenge<br>Sponsored by State Farm
LOCATION:Richardson Senior Center
CATEGORIES:QuickScores; Dominoes Game
TRANSP:0
DALARM:20250915T163000;PT10M;2;Airbus 2 vs. Contelec 2
END:VEVENT
BEGIN:VEVENT
DTSTART:20250915T183000
DTEND:20250915T193000
SUMMARY:Moss Adams/Baker Tilly 2 vs. Firehawk Aerospace 2
DESCRIPTION:F Division - City of Richardson Corporate Challenge<br>Sponsored by State Farm
LOCATION:Richardson Senior Center
CATEGORIES:QuickScores; Dominoes Game
TRANSP:0
DALARM:20250915T163000;PT10M;2;Moss Adams/Baker Tilly 2 vs. Firehawk Aerospace 2
END:VEVENT
BEGIN:VEVENT
DTSTART:20250915T183000
DTEND:20250915T193000
SUMMARY:Airbus vs. AWS
DESCRIPTION:F Division - City of Richardson Corporate Challenge<br>Sponsored by State Farm
LOCATION:Richardson Senior Center
CATEGORIES:QuickScores; Dominoes Game
TRANSP:0
DALARM:20250915T163000;PT10M;2;Airbus vs. AWS
END:VEVENT
BEGIN:VEVENT
DTSTART:20250915T183000
DTEND:20250915T193000
SUMMARY:Contelec vs. Moss Adams/Baker Tilly
DESCRIPTION:F Division - City of Richardson Corporate Challenge<br>Sponsored by State Farm
LOCATION:Richardson Senior Center
CATEGORIES:QuickScores; Dominoes Game
TRANSP:0
DALARM:20250915T163000;PT10M;2;Contelec vs. Moss Adams/Baker Tilly
END:VEVENT
BEGIN:VEVENT
DTSTART:20250915T183000
DTEND:20250915T193000
SUMMARY:AWS 2 vs. Airbus 2
DESCRIPTION:F Division - City of Richardson Corporate Challenge<br>Sponsored by State Farm
LOCATION:Richardson Senior Center
CATEGORIES:QuickScores; Dominoes Game
TRANSP:0
DALARM:20250915T163000;PT10M;2;AWS 2 vs. Airbus 2
END:VEVENT
BEGIN:VEVENT
DTSTART:20250915T183000
DTEND:20250915T193000
SUMMARY:BMO Bank 2 vs. Moss Adams/Baker Tilly 2
DESCRIPTION:F Division - City of Richardson Corporate Challenge<br>Sponsored by State Farm
LOCATION:Richardson Senior Center
CATEGORIES:QuickScores; Dominoes Game
TRANSP:0
DALARM:20250915T163000;PT10M;2;BMO Bank 2 vs. Moss Adams/Baker Tilly 2
END:VEVENT
END:VCALENDAR
