BEGIN:VCALENDAR
VERSION:1.0
BEGIN:VEVENT
DTSTART:20250809T090000
DTEND:20250809T100000
SUMMARY:EY vs. Texas Instruments
DESCRIPTION:Division A - City of Richardson Corporate Challenge<br>Sponsored by State Farm
LOCATION:Net Results Sports Center #3
CATEGORIES:QuickScores; Volleyball Game
TRANSP:0
DALARM:20250809T070000;PT10M;2;EY vs. Texas Instruments
END:VEVENT
BEGIN:VEVENT
DTSTART:20250809T090000
DTEND:20250809T100000
SUMMARY:Blue Cross Blue Shield vs. Lennox
DESCRIPTION:Division A - City of Richardson Corporate Challenge<br>Sponsored by State Farm
LOCATION:Net Results Sports Center #2
CATEGORIES:QuickScores; Volleyball Game
TRANSP:0
DALARM:20250809T070000;PT10M;2;Blue Cross Blue Shield vs. Lennox
END:VEVENT
BEGIN:VEVENT
DTSTART:20250809T090000
DTEND:20250809T100000
SUMMARY:Mckesson vs. Pepsi Co
DESCRIPTION:Division A - City of Richardson Corporate Challenge<br>Sponsored by State Farm
LOCATION:Net Results Sports Center #1
CATEGORIES:QuickScores; Volleyball Game
TRANSP:0
DALARM:20250809T070000;PT10M;2;Mckesson vs. Pepsi Co
END:VEVENT
BEGIN:VEVENT
DTSTART:20250809T100000
DTEND:20250809T110000
SUMMARY:RTX vs. Mckesson
DESCRIPTION:Division A - City of Richardson Corporate Challenge<br>Sponsored by State Farm
LOCATION:Net Results Sports Center #3
CATEGORIES:QuickScores; Volleyball Game
TRANSP:0
DALARM:20250809T080000;PT10M;2;RTX vs. Mckesson
END:VEVENT
BEGIN:VEVENT
DTSTART:20250809T100000
DTEND:20250809T110000
SUMMARY:Lennox vs. KPMG
DESCRIPTION:Division A - City of Richardson Corporate Challenge<br>Sponsored by State Farm
LOCATION:Net Results Sports Center #1
CATEGORIES:QuickScores; Volleyball Game
TRANSP:0
DALARM:20250809T080000;PT10M;2;Lennox vs. KPMG
END:VEVENT
BEGIN:VEVENT
DTSTART:20250809T100000
DTEND:20250809T110000
SUMMARY:State Farm vs. EY
DESCRIPTION:Division A - City of Richardson Corporate Challenge<br>Sponsored by State Farm
LOCATION:Net Results Sports Center #2
CATEGORIES:QuickScores; Volleyball Game
TRANSP:0
DALARM:20250809T080000;PT10M;2;State Farm vs. EY
END:VEVENT
BEGIN:VEVENT
DTSTART:20250809T110000
DTEND:20250809T120000
SUMMARY:KPMG vs. Blue Cross Blue Shield
DESCRIPTION:Division A - City of Richardson Corporate Challenge<br>Sponsored by State Farm
LOCATION:Net Results Sports Center #2
CATEGORIES:QuickScores; Volleyball Game
TRANSP:0
DALARM:20250809T090000;PT10M;2;KPMG vs. Blue Cross Blue Shield
END:VEVENT
BEGIN:VEVENT
DTSTART:20250809T110000
DTEND:20250809T120000
SUMMARY:Texas Instruments vs. State Farm
DESCRIPTION:Division A - City of Richardson Corporate Challenge<br>Sponsored by State Farm
LOCATION:Net Results Sports Center #3
CATEGORIES:QuickScores; Volleyball Game
TRANSP:0
DALARM:20250809T090000;PT10M;2;Texas Instruments vs. State Farm
END:VEVENT
BEGIN:VEVENT
DTSTART:20250809T110000
DTEND:20250809T120000
SUMMARY:Pepsi Co vs. RTX
DESCRIPTION:Division A - City of Richardson Corporate Challenge<br>Sponsored by State Farm
LOCATION:Net Results Sports Center #1
CATEGORIES:QuickScores; Volleyball Game
TRANSP:0
DALARM:20250809T090000;PT10M;2;Pepsi Co vs. RTX
END:VEVENT
BEGIN:VEVENT
DTSTART:20250810T090000
DTEND:20250810T100000
SUMMARY:[C1] Texas Instruments vs. [A2] KPMG
DESCRIPTION:Division A - City of Richardson Corporate Challenge<br>Sponsored by State Farm
LOCATION:Net Results Sports Center #2
CATEGORIES:QuickScores; Volleyball Game
TRANSP:0
DALARM:20250810T070000;PT10M;2;[C1] Texas Instruments vs. [A2] KPMG
END:VEVENT
BEGIN:VEVENT
DTSTART:20250810T090000
DTEND:20250810T100000
SUMMARY:[B2] Pepsi Co vs. [C2] State Farm
DESCRIPTION:Division A - City of Richardson Corporate Challenge<br>Sponsored by State Farm
LOCATION:Net Results Sports Center #1
CATEGORIES:QuickScores; Volleyball Game
TRANSP:0
DALARM:20250810T070000;PT10M;2;[B2] Pepsi Co vs. [C2] State Farm
END:VEVENT
BEGIN:VEVENT
DTSTART:20250810T100000
DTEND:20250810T110000
SUMMARY:[A1] Lennox vs. [C2] State Farm
DESCRIPTION:Division A - City of Richardson Corporate Challenge<br>Sponsored by State Farm
LOCATION:Net Results Sports Center #1
CATEGORIES:QuickScores; Volleyball Game
TRANSP:0
DALARM:20250810T080000;PT10M;2;[A1] Lennox vs. [C2] State Farm
END:VEVENT
BEGIN:VEVENT
DTSTART:20250810T100000
DTEND:20250810T110000
SUMMARY:[B1] RTX vs. [C1] Texas Instruments
DESCRIPTION:Division A - City of Richardson Corporate Challenge<br>Sponsored by State Farm
LOCATION:Net Results Sports Center #2
CATEGORIES:QuickScores; Volleyball Game
TRANSP:0
DALARM:20250810T080000;PT10M;2;[B1] RTX vs. [C1] Texas Instruments
END:VEVENT
BEGIN:VEVENT
DTSTART:20250810T120000
DTEND:20250810T130000
SUMMARY:[A1] Lennox vs. [B1] RTX
DESCRIPTION:Division A - City of Richardson Corporate Challenge<br>Sponsored by State Farm
LOCATION:Net Results Sports Center #1
CATEGORIES:QuickScores; Volleyball Game
TRANSP:0
DALARM:20250810T100000;PT10M;2;[A1] Lennox vs. [B1] RTX
END:VEVENT
BEGIN:VEVENT
DTSTART:20250810T120000
DTEND:20250810T130000
SUMMARY:[C2] State Farm vs. [C1] Texas Instruments
DESCRIPTION:Division A - City of Richardson Corporate Challenge<br>Sponsored by State Farm
LOCATION:Net Results Sports Center #2
CATEGORIES:QuickScores; Volleyball Game
TRANSP:0
DALARM:20250810T100000;PT10M;2;[C2] State Farm vs. [C1] Texas Instruments
END:VEVENT
END:VCALENDAR
