BEGIN:VCALENDAR
VERSION:1.0
BEGIN:VEVENT
DTSTART:20250818T183000
DTEND:20250818T193000
SUMMARY:State Farm vs. EY
DESCRIPTION:A Division Women - City of Richardson Corporate Challenge<br>Sponsored by State Farm
LOCATION:Huffhines Tennis Center
CATEGORIES:QuickScores; Tennis Game
TRANSP:0
DALARM:20250818T163000;PT10M;2;State Farm vs. EY
END:VEVENT
BEGIN:VEVENT
DTSTART:20250818T190000
DTEND:20250818T200000
SUMMARY:Lennox vs. KPMG
DESCRIPTION:A Division Women - City of Richardson Corporate Challenge<br>Sponsored by State Farm
LOCATION:Huffhines Tennis Center
CATEGORIES:QuickScores; Tennis Game
TRANSP:0
DALARM:20250818T170000;PT10M;2;Lennox vs. KPMG
END:VEVENT
BEGIN:VEVENT
DTSTART:20250818T190000
DTEND:20250818T200000
SUMMARY:McKesson vs. Blue Cross
DESCRIPTION:A Division Women - City of Richardson Corporate Challenge<br>Sponsored by State Farm
LOCATION:Huffhines Tennis Center
CATEGORIES:QuickScores; Tennis Game
TRANSP:0
DALARM:20250818T170000;PT10M;2;McKesson vs. Blue Cross
END:VEVENT
BEGIN:VEVENT
DTSTART:20250818T200000
DTEND:20250818T210000
SUMMARY:Texas Instruments vs. RTX
DESCRIPTION:A Division Women - City of Richardson Corporate Challenge<br>Sponsored by State Farm
LOCATION:Huffhines Tennis Center
CATEGORIES:QuickScores; Tennis Game
TRANSP:0
DALARM:20250818T180000;PT10M;2;Texas Instruments vs. RTX
END:VEVENT
BEGIN:VEVENT
DTSTART:20250818T203000
DTEND:20250818T213000
SUMMARY:PepsiCo vs. EY
DESCRIPTION:A Division Women - City of Richardson Corporate Challenge<br>Sponsored by State Farm
LOCATION:Huffhines Tennis Center
CATEGORIES:QuickScores; Tennis Game
TRANSP:0
DALARM:20250818T183000;PT10M;2;PepsiCo vs. EY
END:VEVENT
BEGIN:VEVENT
DTSTART:20250818T210000
DTEND:20250818T220000
SUMMARY:McKesson vs. State Farm
DESCRIPTION:A Division Women - City of Richardson Corporate Challenge<br>Sponsored by State Farm
LOCATION:Huffhines Tennis Center
CATEGORIES:QuickScores; Tennis Game
TRANSP:0
DALARM:20250818T190000;PT10M;2;McKesson vs. State Farm
END:VEVENT
BEGIN:VEVENT
DTSTART:20250819T183000
DTEND:20250819T193000
SUMMARY:PepsiCo vs. Lennox
DESCRIPTION:A Division Women - City of Richardson Corporate Challenge<br>Sponsored by State Farm
LOCATION:Huffhines Tennis Center
CATEGORIES:QuickScores; Tennis Game
TRANSP:0
DALARM:20250819T163000;PT10M;2;PepsiCo vs. Lennox
END:VEVENT
BEGIN:VEVENT
DTSTART:20250819T183000
DTEND:20250819T193000
SUMMARY:Texas Instruments vs. Blue Cross
DESCRIPTION:A Division Women - City of Richardson Corporate Challenge<br>Sponsored by State Farm
LOCATION:Huffhines Tennis Center
CATEGORIES:QuickScores; Tennis Game
TRANSP:0
DALARM:20250819T163000;PT10M;2;Texas Instruments vs. Blue Cross
END:VEVENT
BEGIN:VEVENT
DTSTART:20250819T190000
DTEND:20250819T200000
SUMMARY:KPMG vs. EY
DESCRIPTION:A Division Women - City of Richardson Corporate Challenge<br>Sponsored by State Farm
LOCATION:Huffhines Tennis Center
CATEGORIES:QuickScores; Tennis Game
TRANSP:0
DALARM:20250819T170000;PT10M;2;KPMG vs. EY
END:VEVENT
BEGIN:VEVENT
DTSTART:20250819T190000
DTEND:20250819T200000
SUMMARY:State Farm vs. RTX
DESCRIPTION:A Division Women - City of Richardson Corporate Challenge<br>Sponsored by State Farm
LOCATION:Huffhines Tennis Center
CATEGORIES:QuickScores; Tennis Game
TRANSP:0
DALARM:20250819T170000;PT10M;2;State Farm vs. RTX
END:VEVENT
BEGIN:VEVENT
DTSTART:20250819T203000
DTEND:20250819T213000
SUMMARY:Lennox vs. State Farm
DESCRIPTION:A Division Women - City of Richardson Corporate Challenge<br>Sponsored by State Farm
LOCATION:Huffhines Tennis Center
CATEGORIES:QuickScores; Tennis Game
TRANSP:0
DALARM:20250819T183000;PT10M;2;Lennox vs. State Farm
END:VEVENT
BEGIN:VEVENT
DTSTART:20250819T203000
DTEND:20250819T213000
SUMMARY:Blue Cross vs. EY
DESCRIPTION:A Division Women - City of Richardson Corporate Challenge<br>Sponsored by State Farm
LOCATION:Huffhines Tennis Center
CATEGORIES:QuickScores; Tennis Game
TRANSP:0
DALARM:20250819T183000;PT10M;2;Blue Cross vs. EY
END:VEVENT
BEGIN:VEVENT
DTSTART:20250820T183000
DTEND:20250820T193000
SUMMARY:PepsiCo vs. Texas Instruments
DESCRIPTION:A Division Women - City of Richardson Corporate Challenge<br>Sponsored by State Farm
LOCATION:Huffhines Tennis Center
CATEGORIES:QuickScores; Tennis Game
TRANSP:0
DALARM:20250820T163000;PT10M;2;PepsiCo vs. Texas Instruments
END:VEVENT
BEGIN:VEVENT
DTSTART:20250820T183000
DTEND:20250820T193000
SUMMARY:Lennox vs. EY
DESCRIPTION:A Division Women - City of Richardson Corporate Challenge<br>Sponsored by State Farm
LOCATION:Huffhines Tennis Center
CATEGORIES:QuickScores; Tennis Game
TRANSP:0
DALARM:20250820T163000;PT10M;2;Lennox vs. EY
END:VEVENT
BEGIN:VEVENT
DTSTART:20250820T200000
DTEND:20250820T210000
SUMMARY:Texas Instruments vs. EY
DESCRIPTION:A Division Women - City of Richardson Corporate Challenge<br>Sponsored by State Farm
LOCATION:Huffhines Tennis Center
CATEGORIES:QuickScores; Tennis Game
TRANSP:0
DALARM:20250820T180000;PT10M;2;Texas Instruments vs. EY
END:VEVENT
BEGIN:VEVENT
DTSTART:20250821T183000
DTEND:20250821T193000
SUMMARY:PepsiCo vs. EY
DESCRIPTION:A Division Women - City of Richardson Corporate Challenge<br>Sponsored by State Farm
LOCATION:Huffhines Tennis Center
CATEGORIES:QuickScores; Tennis Game
TRANSP:0
DALARM:20250821T163000;PT10M;2;PepsiCo vs. EY
END:VEVENT
BEGIN:VEVENT
DTSTART:20250821T193000
DTEND:20250821T203000
SUMMARY:EY vs. PepsiCo
DESCRIPTION:A Division Women - City of Richardson Corporate Challenge<br>Sponsored by State Farm
LOCATION:Huffhines Tennis Center
CATEGORIES:QuickScores; Tennis Game
TRANSP:0
DALARM:20250821T173000;PT10M;2;EY vs. PepsiCo
END:VEVENT
END:VCALENDAR
