BEGIN:VCALENDAR
VERSION:1.0
BEGIN:VEVENT
DTSTART:20250919T213000
DTEND:20250919T223000
SUMMARY:REPKON USA vs. The Godsey Law Firm
DESCRIPTION:E Division - City of Richardson Corporate Challenge<br>Sponsored by State Farm
LOCATION:Huffhines Softball Field 2
CATEGORIES:QuickScores; Softball Game
TRANSP:0
DALARM:20250919T193000;PT10M;2;REPKON USA vs. The Godsey Law Firm
END:VEVENT
BEGIN:VEVENT
DTSTART:20250919T213000
DTEND:20250919T223000
SUMMARY:Torq vs. FM
DESCRIPTION:E Division - City of Richardson Corporate Challenge<br>Sponsored by State Farm
LOCATION:Huffhines Softball Field 1
CATEGORIES:QuickScores; Softball Game
TRANSP:0
DALARM:20250919T193000;PT10M;2;Torq vs. FM
END:VEVENT
BEGIN:VEVENT
DTSTART:20250920T140000
DTEND:20250920T150000
SUMMARY:The Godsey Law Firm vs. Torq
DESCRIPTION:E Division - City of Richardson Corporate Challenge<br>Sponsored by State Farm
LOCATION:Huffhines Softball Field 4
CATEGORIES:QuickScores; Softball Game
TRANSP:0
DALARM:20250920T120000;PT10M;2;The Godsey Law Firm vs. Torq
END:VEVENT
BEGIN:VEVENT
DTSTART:20250920T150000
DTEND:20250920T160000
SUMMARY:Savoya vs. REPKON USA
DESCRIPTION:E Division - City of Richardson Corporate Challenge<br>Sponsored by State Farm
LOCATION:Huffhines Softball Field 3
CATEGORIES:QuickScores; Softball Game
TRANSP:0
DALARM:20250920T130000;PT10M;2;Savoya vs. REPKON USA
END:VEVENT
BEGIN:VEVENT
DTSTART:20250920T160000
DTEND:20250920T170000
SUMMARY:FM vs. National Life Group
DESCRIPTION:E Division - City of Richardson Corporate Challenge<br>Sponsored by State Farm
LOCATION:Huffhines Softball Field 2
CATEGORIES:QuickScores; Softball Game
TRANSP:0
DALARM:20250920T140000;PT10M;2;FM vs. National Life Group
END:VEVENT
BEGIN:VEVENT
DTSTART:20250920T160000
DTEND:20250920T170000
SUMMARY:Evolv vs. Savoya
DESCRIPTION:E Division - City of Richardson Corporate Challenge<br>Sponsored by State Farm
LOCATION:Huffhines Softball Field 1
CATEGORIES:QuickScores; Softball Game
TRANSP:0
DALARM:20250920T140000;PT10M;2;Evolv vs. Savoya
END:VEVENT
BEGIN:VEVENT
DTSTART:20250920T170000
DTEND:20250920T180000
SUMMARY:National Life Group vs. Evolv
DESCRIPTION:E Division - City of Richardson Corporate Challenge<br>Sponsored by State Farm
LOCATION:Huffhines Softball Field 3
CATEGORIES:QuickScores; Softball Game
TRANSP:0
DALARM:20250920T150000;PT10M;2;National Life Group vs. Evolv
END:VEVENT
BEGIN:VEVENT
DTSTART:20250921T150000
DTEND:20250921T160000
SUMMARY:[B1] Torq vs. [A2] Evolv
DESCRIPTION:E Division - City of Richardson Corporate Challenge<br>Sponsored by State Farm
LOCATION:Huffhines Softball Field 2
CATEGORIES:QuickScores; Softball Game
TRANSP:0
DALARM:20250921T130000;PT10M;2;[B1] Torq vs. [A2] Evolv
END:VEVENT
BEGIN:VEVENT
DTSTART:20250921T150000
DTEND:20250921T160000
SUMMARY:[A1] REPKON USA vs. [B2] Savoya
DESCRIPTION:E Division - City of Richardson Corporate Challenge<br>Sponsored by State Farm
LOCATION:Huffhines Softball Field 1
CATEGORIES:QuickScores; Softball Game
TRANSP:0
DALARM:20250921T130000;PT10M;2;[A1] REPKON USA vs. [B2] Savoya
END:VEVENT
BEGIN:VEVENT
DTSTART:20250921T160000
DTEND:20250921T170000
SUMMARY:[A1] REPKON USA vs. [A2] Evolv
DESCRIPTION:E Division - City of Richardson Corporate Challenge<br>Sponsored by State Farm
LOCATION:Huffhines Softball Field 3
CATEGORIES:QuickScores; Softball Game
TRANSP:0
DALARM:20250921T140000;PT10M;2;[A1] REPKON USA vs. [A2] Evolv
END:VEVENT
BEGIN:VEVENT
DTSTART:20250921T160000
DTEND:20250921T170000
SUMMARY:[B2] Savoya vs. [B1] Torq
DESCRIPTION:E Division - City of Richardson Corporate Challenge<br>Sponsored by State Farm
LOCATION:Huffhines Softball Field 4
CATEGORIES:QuickScores; Softball Game
TRANSP:0
DALARM:20250921T140000;PT10M;2;[B2] Savoya vs. [B1] Torq
END:VEVENT
END:VCALENDAR
