BEGIN:VCALENDAR
VERSION:1.0
BEGIN:VEVENT
DTSTART:20250919T183000
DTEND:20250919T193000
SUMMARY:Cisco vs. 7-Eleven
DESCRIPTION:B Division - City of Richardson Corporate Challenge<br>Sponsored by State Farm
LOCATION:Huffhines Softball Field 1
CATEGORIES:QuickScores; Softball Game
TRANSP:0
DALARM:20250919T163000;PT10M;2;Cisco vs. 7-Eleven
END:VEVENT
BEGIN:VEVENT
DTSTART:20250919T193000
DTEND:20250919T203000
SUMMARY:Globe Life vs. Geico
DESCRIPTION:B Division - City of Richardson Corporate Challenge<br>Sponsored by State Farm
LOCATION:Huffhines Softball Field 4
CATEGORIES:QuickScores; Softball Game
TRANSP:0
DALARM:20250919T173000;PT10M;2;Globe Life vs. Geico
END:VEVENT
BEGIN:VEVENT
DTSTART:20250919T193000
DTEND:20250919T203000
SUMMARY:Texas Capital Bank vs. LJA Engineering
DESCRIPTION:B Division - City of Richardson Corporate Challenge<br>Sponsored by State Farm
LOCATION:Huffhines Softball Field 2
CATEGORIES:QuickScores; Softball Game
TRANSP:0
DALARM:20250919T173000;PT10M;2;Texas Capital Bank vs. LJA Engineering
END:VEVENT
BEGIN:VEVENT
DTSTART:20250919T203000
DTEND:20250919T213000
SUMMARY:7-Eleven vs. Baylor Heart Hospital
DESCRIPTION:B Division - City of Richardson Corporate Challenge<br>Sponsored by State Farm
LOCATION:Huffhines Softball Field 3
CATEGORIES:QuickScores; Softball Game
TRANSP:0
DALARM:20250919T183000;PT10M;2;7-Eleven vs. Baylor Heart Hospital
END:VEVENT
BEGIN:VEVENT
DTSTART:20250920T090000
DTEND:20250920T100000
SUMMARY:City of Richardson vs. Globe Life
DESCRIPTION:B Division - City of Richardson Corporate Challenge<br>Sponsored by State Farm
LOCATION:Huffhines Softball Field 3
CATEGORIES:QuickScores; Softball Game
TRANSP:0
DALARM:20250920T070000;PT10M;2;City of Richardson vs. Globe Life
END:VEVENT
BEGIN:VEVENT
DTSTART:20250920T090000
DTEND:20250920T100000
SUMMARY:Baylor Heart Hospital vs. Cisco
DESCRIPTION:B Division - City of Richardson Corporate Challenge<br>Sponsored by State Farm
LOCATION:Huffhines Softball Field 4
CATEGORIES:QuickScores; Softball Game
TRANSP:0
DALARM:20250920T070000;PT10M;2;Baylor Heart Hospital vs. Cisco
END:VEVENT
BEGIN:VEVENT
DTSTART:20250920T090000
DTEND:20250920T100000
SUMMARY:LJA Engineering vs. HF Sinclair
DESCRIPTION:B Division - City of Richardson Corporate Challenge<br>Sponsored by State Farm
LOCATION:Huffhines Softball Field 2
CATEGORIES:QuickScores; Softball Game
TRANSP:0
DALARM:20250920T070000;PT10M;2;LJA Engineering vs. HF Sinclair
END:VEVENT
BEGIN:VEVENT
DTSTART:20250920T100000
DTEND:20250920T110000
SUMMARY:HF Sinclair vs. Texas Capital Bank
DESCRIPTION:B Division - City of Richardson Corporate Challenge<br>Sponsored by State Farm
LOCATION:Huffhines Softball Field 1
CATEGORIES:QuickScores; Softball Game
TRANSP:0
DALARM:20250920T080000;PT10M;2;HF Sinclair vs. Texas Capital Bank
END:VEVENT
BEGIN:VEVENT
DTSTART:20250920T100000
DTEND:20250920T110000
SUMMARY:Geico vs. City of Richardson
DESCRIPTION:B Division - City of Richardson Corporate Challenge<br>Sponsored by State Farm
LOCATION:Huffhines Softball Field 2
CATEGORIES:QuickScores; Softball Game
TRANSP:0
DALARM:20250920T080000;PT10M;2;Geico vs. City of Richardson
END:VEVENT
BEGIN:VEVENT
DTSTART:20250921T100000
DTEND:20250921T110000
SUMMARY:[C1] Texas Capital Bank vs. [A2] Baylor Heart Hospital
DESCRIPTION:B Division - City of Richardson Corporate Challenge<br>Sponsored by State Farm
LOCATION:Huffhines Softball Field 4
CATEGORIES:QuickScores; Softball Game
TRANSP:0
DALARM:20250921T080000;PT10M;2;[C1] Texas Capital Bank vs. [A2] Baylor Heart Hospital
END:VEVENT
BEGIN:VEVENT
DTSTART:20250921T100000
DTEND:20250921T110000
SUMMARY:[B2] Geico vs. [C2] HF Sinclair
DESCRIPTION:B Division - City of Richardson Corporate Challenge<br>Sponsored by State Farm
LOCATION:Huffhines Softball Field 3
CATEGORIES:QuickScores; Softball Game
TRANSP:0
DALARM:20250921T080000;PT10M;2;[B2] Geico vs. [C2] HF Sinclair
END:VEVENT
BEGIN:VEVENT
DTSTART:20250921T110000
DTEND:20250921T120000
SUMMARY:[B1] Globe Life vs. [A2] Baylor Heart Hospital
DESCRIPTION:B Division - City of Richardson Corporate Challenge<br>Sponsored by State Farm
LOCATION:Huffhines Softball Field 4
CATEGORIES:QuickScores; Softball Game
TRANSP:0
DALARM:20250921T090000;PT10M;2;[B1] Globe Life vs. [A2] Baylor Heart Hospital
END:VEVENT
BEGIN:VEVENT
DTSTART:20250921T110000
DTEND:20250921T120000
SUMMARY:[A1] 7-Eleven vs. [C2] HF Sinclair
DESCRIPTION:B Division - City of Richardson Corporate Challenge<br>Sponsored by State Farm
LOCATION:Huffhines Softball Field 3
CATEGORIES:QuickScores; Softball Game
TRANSP:0
DALARM:20250921T090000;PT10M;2;[A1] 7-Eleven vs. [C2] HF Sinclair
END:VEVENT
BEGIN:VEVENT
DTSTART:20250921T130000
DTEND:20250921T140000
SUMMARY:[A1] 7-Eleven vs. [A2] Baylor Heart Hospital
DESCRIPTION:B Division - City of Richardson Corporate Challenge<br>Sponsored by State Farm
LOCATION:Huffhines Softball Field 3
CATEGORIES:QuickScores; Softball Game
TRANSP:0
DALARM:20250921T110000;PT10M;2;[A1] 7-Eleven vs. [A2] Baylor Heart Hospital
END:VEVENT
BEGIN:VEVENT
DTSTART:20250921T130000
DTEND:20250921T140000
SUMMARY:[C2] HF Sinclair vs. [B1] Globe Life
DESCRIPTION:B Division - City of Richardson Corporate Challenge<br>Sponsored by State Farm
LOCATION:Huffhines Softball Field 4
CATEGORIES:QuickScores; Softball Game
TRANSP:0
DALARM:20250921T110000;PT10M;2;[C2] HF Sinclair vs. [B1] Globe Life
END:VEVENT
END:VCALENDAR
