BEGIN:VCALENDAR
VERSION:1.0
BEGIN:VEVENT
DTSTART:20250927T130000
DTEND:20250927T140000
SUMMARY:Sendero Consulting vs. Ally
DESCRIPTION:D Division - City of Richardson Corporate Challenge<br>Sponsored by State Farm
LOCATION:Huffhines #3
CATEGORIES:QuickScores; Kickball Game
TRANSP:0
DALARM:20250927T110000;PT10M;2;Sendero Consulting vs. Ally
END:VEVENT
BEGIN:VEVENT
DTSTART:20250927T130000
DTEND:20250927T140000
SUMMARY:Slalom vs. L3Harris
DESCRIPTION:D Division - City of Richardson Corporate Challenge<br>Sponsored by State Farm
LOCATION:Huffhines #4
CATEGORIES:QuickScores; Kickball Game
TRANSP:0
DALARM:20250927T110000;PT10M;2;Slalom vs. L3Harris
END:VEVENT
BEGIN:VEVENT
DTSTART:20250927T140000
DTEND:20250927T150000
SUMMARY:L3Harris vs. Sendero Consulting
DESCRIPTION:D Division - City of Richardson Corporate Challenge<br>Sponsored by State Farm
LOCATION:Huffhines #2
CATEGORIES:QuickScores; Kickball Game
TRANSP:0
DALARM:20250927T120000;PT10M;2;L3Harris vs. Sendero Consulting
END:VEVENT
BEGIN:VEVENT
DTSTART:20250927T140000
DTEND:20250927T150000
SUMMARY:Analog Devices vs. Stryker
DESCRIPTION:D Division - City of Richardson Corporate Challenge<br>Sponsored by State Farm
LOCATION:Huffhines #1
CATEGORIES:QuickScores; Kickball Game
TRANSP:0
DALARM:20250927T120000;PT10M;2;Analog Devices vs. Stryker
END:VEVENT
BEGIN:VEVENT
DTSTART:20250927T150000
DTEND:20250927T160000
SUMMARY:Ally vs. Analog Devices
DESCRIPTION:D Division - City of Richardson Corporate Challenge<br>Sponsored by State Farm
LOCATION:Huffhines #2
CATEGORIES:QuickScores; Kickball Game
TRANSP:0
DALARM:20250927T130000;PT10M;2;Ally vs. Analog Devices
END:VEVENT
BEGIN:VEVENT
DTSTART:20250927T150000
DTEND:20250927T160000
SUMMARY:Stryker vs. Slalom
DESCRIPTION:D Division - City of Richardson Corporate Challenge<br>Sponsored by State Farm
LOCATION:Huffhines #1
CATEGORIES:QuickScores; Kickball Game
TRANSP:0
DALARM:20250927T130000;PT10M;2;Stryker vs. Slalom
END:VEVENT
BEGIN:VEVENT
DTSTART:20250928T120000
DTEND:20250928T130000
SUMMARY:[B1] Sendero Consulting vs. [A2] Ally
DESCRIPTION:D Division - City of Richardson Corporate Challenge<br>Sponsored by State Farm
LOCATION:Huffhines #4
CATEGORIES:QuickScores; Kickball Game
TRANSP:0
DALARM:20250928T100000;PT10M;2;[B1] Sendero Consulting vs. [A2] Ally
END:VEVENT
BEGIN:VEVENT
DTSTART:20250928T120000
DTEND:20250928T130000
SUMMARY:[A1] Slalom vs. [B2] L3Harris
DESCRIPTION:D Division - City of Richardson Corporate Challenge<br>Sponsored by State Farm
LOCATION:Huffhines #3
CATEGORIES:QuickScores; Kickball Game
TRANSP:0
DALARM:20250928T100000;PT10M;2;[A1] Slalom vs. [B2] L3Harris
END:VEVENT
BEGIN:VEVENT
DTSTART:20250928T140000
DTEND:20250928T150000
SUMMARY:[A1] Slalom vs. [A2] Ally
DESCRIPTION:D Division - City of Richardson Corporate Challenge<br>Sponsored by State Farm
LOCATION:Huffhines #3
CATEGORIES:QuickScores; Kickball Game
TRANSP:0
DALARM:20250928T120000;PT10M;2;[A1] Slalom vs. [A2] Ally
END:VEVENT
BEGIN:VEVENT
DTSTART:20250928T140000
DTEND:20250928T150000
SUMMARY:[B2] L3Harris vs. [B1] Sendero Consulting
DESCRIPTION:D Division - City of Richardson Corporate Challenge<br>Sponsored by State Farm
LOCATION:Huffhines #4
CATEGORIES:QuickScores; Kickball Game
TRANSP:0
DALARM:20250928T120000;PT10M;2;[B2] L3Harris vs. [B1] Sendero Consulting
END:VEVENT
END:VCALENDAR
