BEGIN:VCALENDAR
VERSION:1.0
BEGIN:VEVENT
DTSTART:20250825T183000
DTEND:20250825T193000
SUMMARY:State Farm vs. Blue Cross
DESCRIPTION:A Division Women - City of Richardson Corporate Challenge<br>Sponsored by State Farm
LOCATION:Huffhines Tennis Center
CATEGORIES:QuickScores; Horseshoes Game
TRANSP:0
DALARM:20250825T163000;PT10M;2;State Farm vs. Blue Cross
END:VEVENT
BEGIN:VEVENT
DTSTART:20250825T183000
DTEND:20250825T193000
SUMMARY:Texas Instruments vs. Blue Cross
DESCRIPTION:A Division Women - City of Richardson Corporate Challenge<br>Sponsored by State Farm
LOCATION:Huffhines Tennis Center
CATEGORIES:QuickScores; Horseshoes Game
TRANSP:0
DALARM:20250825T163000;PT10M;2;Texas Instruments vs. Blue Cross
END:VEVENT
BEGIN:VEVENT
DTSTART:20250825T183000
DTEND:20250825T193000
SUMMARY:Lennox vs. McKesson
DESCRIPTION:A Division Women - City of Richardson Corporate Challenge<br>Sponsored by State Farm
LOCATION:Huffhines Tennis Center
CATEGORIES:QuickScores; Horseshoes Game
TRANSP:0
DALARM:20250825T163000;PT10M;2;Lennox vs. McKesson
END:VEVENT
BEGIN:VEVENT
DTSTART:20250825T183000
DTEND:20250825T193000
SUMMARY:EY vs. RTX
DESCRIPTION:A Division Women - City of Richardson Corporate Challenge<br>Sponsored by State Farm
LOCATION:Huffhines Tennis Center
CATEGORIES:QuickScores; Horseshoes Game
TRANSP:0
DALARM:20250825T163000;PT10M;2;EY vs. RTX
END:VEVENT
BEGIN:VEVENT
DTSTART:20250825T183000
DTEND:20250825T193000
SUMMARY:KPMG vs. PepsiCo
DESCRIPTION:A Division Women - City of Richardson Corporate Challenge<br>Sponsored by State Farm
LOCATION:Huffhines Tennis Center
CATEGORIES:QuickScores; Horseshoes Game
TRANSP:0
DALARM:20250825T163000;PT10M;2;KPMG vs. PepsiCo
END:VEVENT
END:VCALENDAR
