BEGIN:VCALENDAR
VERSION:1.0
BEGIN:VEVENT
DTSTART:20250915T183000
DTEND:20250915T193000
SUMMARY:Torq vs. FM
DESCRIPTION:E Division - City of Richardson Corporate Challenge<br>Sponsored by State Farm
LOCATION:Richardson Senior Center
CATEGORIES:QuickScores; Dominoes Game
TRANSP:0
DALARM:20250915T163000;PT10M;2;Torq vs. FM
END:VEVENT
BEGIN:VEVENT
DTSTART:20250915T183000
DTEND:20250915T193000
SUMMARY:FM 2 vs. Evolv 2
DESCRIPTION:E Division - City of Richardson Corporate Challenge<br>Sponsored by State Farm
LOCATION:Richardson Senior Center
CATEGORIES:QuickScores; Dominoes Game
TRANSP:0
DALARM:20250915T163000;PT10M;2;FM 2 vs. Evolv 2
END:VEVENT
BEGIN:VEVENT
DTSTART:20250915T183000
DTEND:20250915T193000
SUMMARY:Evolv vs. FM
DESCRIPTION:E Division - City of Richardson Corporate Challenge<br>Sponsored by State Farm
LOCATION:Richardson Senior Center
CATEGORIES:QuickScores; Dominoes Game
TRANSP:0
DALARM:20250915T163000;PT10M;2;Evolv vs. FM
END:VEVENT
BEGIN:VEVENT
DTSTART:20250915T183000
DTEND:20250915T193000
SUMMARY:Godsey Law Firm 2 vs. REPKON USA 2
DESCRIPTION:E Division - City of Richardson Corporate Challenge<br>Sponsored by State Farm
LOCATION:Richardson Senior Center
CATEGORIES:QuickScores; Dominoes Game
TRANSP:0
DALARM:20250915T163000;PT10M;2;Godsey Law Firm 2 vs. REPKON USA 2
END:VEVENT
BEGIN:VEVENT
DTSTART:20250915T183000
DTEND:20250915T193000
SUMMARY:Savoya 2 vs. Torq 2
DESCRIPTION:E Division - City of Richardson Corporate Challenge<br>Sponsored by State Farm
LOCATION:Richardson Senior Center
CATEGORIES:QuickScores; Dominoes Game
TRANSP:0
DALARM:20250915T163000;PT10M;2;Savoya 2 vs. Torq 2
END:VEVENT
BEGIN:VEVENT
DTSTART:20250915T183000
DTEND:20250915T193000
SUMMARY:Evolv 2 vs. National Life Group 2
DESCRIPTION:E Division - City of Richardson Corporate Challenge<br>Sponsored by State Farm
LOCATION:Richardson Senior Center
CATEGORIES:QuickScores; Dominoes Game
TRANSP:0
DALARM:20250915T163000;PT10M;2;Evolv 2 vs. National Life Group 2
END:VEVENT
BEGIN:VEVENT
DTSTART:20250915T183000
DTEND:20250915T193000
SUMMARY:Savoya vs. National Life Group
DESCRIPTION:E Division - City of Richardson Corporate Challenge<br>Sponsored by State Farm
LOCATION:Richardson Senior Center
CATEGORIES:QuickScores; Dominoes Game
TRANSP:0
DALARM:20250915T163000;PT10M;2;Savoya vs. National Life Group
END:VEVENT
BEGIN:VEVENT
DTSTART:20250915T183000
DTEND:20250915T193000
SUMMARY:REPKON USA vs. The Godsey Law Firm
DESCRIPTION:E Division - City of Richardson Corporate Challenge<br>Sponsored by State Farm
LOCATION:Richardson Senior Center
CATEGORIES:QuickScores; Dominoes Game
TRANSP:0
DALARM:20250915T163000;PT10M;2;REPKON USA vs. The Godsey Law Firm
END:VEVENT
BEGIN:VEVENT
DTSTART:20250915T000000
DTEND:20250915T000000
SUMMARY:REPKON USA vs. Savoya
DESCRIPTION:E Division - City of Richardson Corporate Challenge<br>Sponsored by State Farm
LOCATION:Richardson Senior Center
CATEGORIES:QuickScores; Dominoes Game
TRANSP:0
DALARM:20250915T000000;PT10M;2;REPKON USA vs. Savoya
END:VEVENT
BEGIN:VEVENT
DTSTART:20250915T000000
DTEND:20250915T000000
SUMMARY:Savoya 2 vs. Godsey Law Firm 2
DESCRIPTION:E Division - City of Richardson Corporate Challenge<br>Sponsored by State Farm
LOCATION:Richardson Senior Center
CATEGORIES:QuickScores; Dominoes Game
TRANSP:0
DALARM:20250915T000000;PT10M;2;Savoya 2 vs. Godsey Law Firm 2
END:VEVENT
END:VCALENDAR
