BEGIN:VCALENDAR
VERSION:1.0
BEGIN:VEVENT
DTSTART:20250915T183000
DTEND:20250915T193000
SUMMARY:Stryker vs. Analog Devices
DESCRIPTION:D Division - City of Richardson Corporate Challenge<br>Sponsored by State Farm
LOCATION:Richardson Senior Center
CATEGORIES:QuickScores; Dominoes Game
TRANSP:0
DALARM:20250915T163000;PT10M;2;Stryker vs. Analog Devices
END:VEVENT
BEGIN:VEVENT
DTSTART:20250915T183000
DTEND:20250915T193000
SUMMARY:L3Harris vs. Slalom
DESCRIPTION:D Division - City of Richardson Corporate Challenge<br>Sponsored by State Farm
LOCATION:Richardson Senior Center
CATEGORIES:QuickScores; Dominoes Game
TRANSP:0
DALARM:20250915T163000;PT10M;2;L3Harris vs. Slalom
END:VEVENT
BEGIN:VEVENT
DTSTART:20250915T183000
DTEND:20250915T193000
SUMMARY:Sendero vs. Childress Companies
DESCRIPTION:D Division - City of Richardson Corporate Challenge<br>Sponsored by State Farm
LOCATION:Richardson Senior Center
CATEGORIES:QuickScores; Dominoes Game
TRANSP:0
DALARM:20250915T163000;PT10M;2;Sendero vs. Childress Companies
END:VEVENT
BEGIN:VEVENT
DTSTART:20250915T183000
DTEND:20250915T193000
SUMMARY:Ally 2 vs. Childress Companies 2
DESCRIPTION:D Division - City of Richardson Corporate Challenge<br>Sponsored by State Farm
LOCATION:Richardson Senior Center
CATEGORIES:QuickScores; Dominoes Game
TRANSP:0
DALARM:20250915T163000;PT10M;2;Ally 2 vs. Childress Companies 2
END:VEVENT
BEGIN:VEVENT
DTSTART:20250915T183000
DTEND:20250915T193000
SUMMARY:Sendero 2 vs. Stryker 2
DESCRIPTION:D Division - City of Richardson Corporate Challenge<br>Sponsored by State Farm
LOCATION:Richardson Senior Center
CATEGORIES:QuickScores; Dominoes Game
TRANSP:0
DALARM:20250915T163000;PT10M;2;Sendero 2 vs. Stryker 2
END:VEVENT
BEGIN:VEVENT
DTSTART:20250915T183000
DTEND:20250915T193000
SUMMARY:Slalom 2 vs. L3Harris 2
DESCRIPTION:D Division - City of Richardson Corporate Challenge<br>Sponsored by State Farm
LOCATION:Richardson Senior Center
CATEGORIES:QuickScores; Dominoes Game
TRANSP:0
DALARM:20250915T163000;PT10M;2;Slalom 2 vs. L3Harris 2
END:VEVENT
BEGIN:VEVENT
DTSTART:20250915T183000
DTEND:20250915T193000
SUMMARY:Ally vs. Stryker
DESCRIPTION:D Division - City of Richardson Corporate Challenge<br>Sponsored by State Farm
LOCATION:Richardson Senior Center
CATEGORIES:QuickScores; Dominoes Game
TRANSP:0
DALARM:20250915T163000;PT10M;2;Ally vs. Stryker
END:VEVENT
BEGIN:VEVENT
DTSTART:20250915T183000
DTEND:20250915T193000
SUMMARY:Analog Devices 2 vs. Ally 2
DESCRIPTION:D Division - City of Richardson Corporate Challenge<br>Sponsored by State Farm
LOCATION:Richardson Senior Center
CATEGORIES:QuickScores; Dominoes Game
TRANSP:0
DALARM:20250915T163000;PT10M;2;Analog Devices 2 vs. Ally 2
END:VEVENT
END:VCALENDAR
