BEGIN:VCALENDAR
VERSION:1.0
BEGIN:VEVENT
DTSTART:20250915T183000
DTEND:20250915T193000
SUMMARY:CUTX vs. Leonardo DRS
DESCRIPTION:C Division - City of Richardson Corporate Challenge<br>Sponsored by State Farm
LOCATION:Richardson Senior Center
CATEGORIES:QuickScores; Dominoes Game
TRANSP:0
DALARM:20250915T163000;PT10M;2;CUTX vs. Leonardo DRS
END:VEVENT
BEGIN:VEVENT
DTSTART:20250915T183000
DTEND:20250915T193000
SUMMARY:UTD vs. Freese and Nichols
DESCRIPTION:C Division - City of Richardson Corporate Challenge<br>Sponsored by State Farm
LOCATION:Richardson Senior Center
CATEGORIES:QuickScores; Dominoes Game
TRANSP:0
DALARM:20250915T163000;PT10M;2;UTD vs. Freese and Nichols
END:VEVENT
BEGIN:VEVENT
DTSTART:20250915T183000
DTEND:20250915T193000
SUMMARY:Hilton vs. Oncor
DESCRIPTION:C Division - City of Richardson Corporate Challenge<br>Sponsored by State Farm
LOCATION:Richardson Senior Center
CATEGORIES:QuickScores; Dominoes Game
TRANSP:0
DALARM:20250915T163000;PT10M;2;Hilton vs. Oncor
END:VEVENT
BEGIN:VEVENT
DTSTART:20250915T183000
DTEND:20250915T193000
SUMMARY:ISN vs. Fossil
DESCRIPTION:C Division - City of Richardson Corporate Challenge<br>Sponsored by State Farm
LOCATION:Richardson Senior Center
CATEGORIES:QuickScores; Dominoes Game
TRANSP:0
DALARM:20250915T163000;PT10M;2;ISN vs. Fossil
END:VEVENT
BEGIN:VEVENT
DTSTART:20250915T183000
DTEND:20250915T193000
SUMMARY:Hilton 2 vs. Oncor 2
DESCRIPTION:C Division - City of Richardson Corporate Challenge<br>Sponsored by State Farm
LOCATION:Richardson Senior Center
CATEGORIES:QuickScores; Dominoes Game
TRANSP:0
DALARM:20250915T163000;PT10M;2;Hilton 2 vs. Oncor 2
END:VEVENT
BEGIN:VEVENT
DTSTART:20250915T183000
DTEND:20250915T193000
SUMMARY:ISN 2 vs. Fossil 2
DESCRIPTION:C Division - City of Richardson Corporate Challenge<br>Sponsored by State Farm
LOCATION:Richardson Senior Center
CATEGORIES:QuickScores; Dominoes Game
TRANSP:0
DALARM:20250915T163000;PT10M;2;ISN 2 vs. Fossil 2
END:VEVENT
BEGIN:VEVENT
DTSTART:20250915T183000
DTEND:20250915T193000
SUMMARY:CUTX 2 vs. Leonardo DRS 2
DESCRIPTION:C Division - City of Richardson Corporate Challenge<br>Sponsored by State Farm
LOCATION:Richardson Senior Center
CATEGORIES:QuickScores; Dominoes Game
TRANSP:0
DALARM:20250915T163000;PT10M;2;CUTX 2 vs. Leonardo DRS 2
END:VEVENT
BEGIN:VEVENT
DTSTART:20250915T183000
DTEND:20250915T193000
SUMMARY:UTD 2 vs. Freese and Nichols 2
DESCRIPTION:C Division - City of Richardson Corporate Challenge<br>Sponsored by State Farm
LOCATION:Richardson Senior Center
CATEGORIES:QuickScores; Dominoes Game
TRANSP:0
DALARM:20250915T163000;PT10M;2;UTD 2 vs. Freese and Nichols 2
END:VEVENT
END:VCALENDAR
