BEGIN:VCALENDAR
VERSION:1.0
BEGIN:VEVENT
DTSTART:20250812T183000
DTEND:20250812T183100
SUMMARY:Stryker vs. Ally
DESCRIPTION:Division D - City of Richardson Corporate Challenge<br>Sponsored by State Farm
LOCATION:Heights Rec Center
CATEGORIES:QuickScores; Dodgeball Game
TRANSP:0
DALARM:20250812T163000;PT10M;2;Stryker vs. Ally
END:VEVENT
BEGIN:VEVENT
DTSTART:20250812T183100
DTEND:20250812T183200
SUMMARY:Analog Devices vs. Slalom
DESCRIPTION:Division D - City of Richardson Corporate Challenge<br>Sponsored by State Farm
LOCATION:Heights Rec Center
CATEGORIES:QuickScores; Dodgeball Game
TRANSP:0
DALARM:20250812T163100;PT10M;2;Analog Devices vs. Slalom
END:VEVENT
BEGIN:VEVENT
DTSTART:20250812T183200
DTEND:20250812T183300
SUMMARY:L3Harris vs. Sendero Consulting
DESCRIPTION:Division D - City of Richardson Corporate Challenge<br>Sponsored by State Farm
LOCATION:Heights Rec Center
CATEGORIES:QuickScores; Dodgeball Game
TRANSP:0
DALARM:20250812T163200;PT10M;2;L3Harris vs. Sendero Consulting
END:VEVENT
BEGIN:VEVENT
DTSTART:20250812T183300
DTEND:20250812T183400
SUMMARY:Stryker vs. Analog Devices
DESCRIPTION:Division D - City of Richardson Corporate Challenge<br>Sponsored by State Farm
LOCATION:Heights Rec Center
CATEGORIES:QuickScores; Dodgeball Game
TRANSP:0
DALARM:20250812T163300;PT10M;2;Stryker vs. Analog Devices
END:VEVENT
BEGIN:VEVENT
DTSTART:20250812T183400
DTEND:20250812T183500
SUMMARY:Ally vs. Sendero Consulting
DESCRIPTION:Division D - City of Richardson Corporate Challenge<br>Sponsored by State Farm
LOCATION:Heights Rec Center
CATEGORIES:QuickScores; Dodgeball Game
TRANSP:0
DALARM:20250812T163400;PT10M;2;Ally vs. Sendero Consulting
END:VEVENT
BEGIN:VEVENT
DTSTART:20250812T183500
DTEND:20250812T183600
SUMMARY:Slalom vs. L3Harris
DESCRIPTION:Division D - City of Richardson Corporate Challenge<br>Sponsored by State Farm
LOCATION:Heights Rec Center
CATEGORIES:QuickScores; Dodgeball Game
TRANSP:0
DALARM:20250812T163500;PT10M;2;Slalom vs. L3Harris
END:VEVENT
BEGIN:VEVENT
DTSTART:20250812T183600
DTEND:20250812T183700
SUMMARY:Ally vs. Analog Devices
DESCRIPTION:Division D - City of Richardson Corporate Challenge<br>Sponsored by State Farm
LOCATION:Heights Rec Center
CATEGORIES:QuickScores; Dodgeball Game
TRANSP:0
DALARM:20250812T163600;PT10M;2;Ally vs. Analog Devices
END:VEVENT
BEGIN:VEVENT
DTSTART:20250812T183700
DTEND:20250812T183800
SUMMARY:L3Harris vs. Stryker
DESCRIPTION:Division D - City of Richardson Corporate Challenge<br>Sponsored by State Farm
LOCATION:Heights Rec Center
CATEGORIES:QuickScores; Dodgeball Game
TRANSP:0
DALARM:20250812T163700;PT10M;2;L3Harris vs. Stryker
END:VEVENT
BEGIN:VEVENT
DTSTART:20250812T183800
DTEND:20250812T183900
SUMMARY:Sendero Consulting vs. Slalom
DESCRIPTION:Division D - City of Richardson Corporate Challenge<br>Sponsored by State Farm
LOCATION:Heights Rec Center
CATEGORIES:QuickScores; Dodgeball Game
TRANSP:0
DALARM:20250812T163800;PT10M;2;Sendero Consulting vs. Slalom
END:VEVENT
BEGIN:VEVENT
DTSTART:20250812T000000
DTEND:20250812T000000
SUMMARY:[A1] Slalom vs. [B1] Sendero Consulting
DESCRIPTION:Division D - City of Richardson Corporate Challenge<br>Sponsored by State Farm
CATEGORIES:QuickScores; Dodgeball Game
TRANSP:0
DALARM:20250812T000000;PT10M;2;[A1] Slalom vs. [B1] Sendero Consulting
END:VEVENT
BEGIN:VEVENT
DTSTART:20250812T000000
DTEND:20250812T000000
SUMMARY:[B2] L3Harris vs. [A2] Analog Devices
DESCRIPTION:Division D - City of Richardson Corporate Challenge<br>Sponsored by State Farm
CATEGORIES:QuickScores; Dodgeball Game
TRANSP:0
DALARM:20250812T000000;PT10M;2;[B2] L3Harris vs. [A2] Analog Devices
END:VEVENT
BEGIN:VEVENT
DTSTART:20250812T000000
DTEND:20250812T000000
SUMMARY:[B1] Sendero Consulting vs. [A2] Analog Devices
DESCRIPTION:Division D - City of Richardson Corporate Challenge<br>Sponsored by State Farm
CATEGORIES:QuickScores; Dodgeball Game
TRANSP:0
DALARM:20250812T000000;PT10M;2;[B1] Sendero Consulting vs. [A2] Analog Devices
END:VEVENT
BEGIN:VEVENT
DTSTART:20250812T000000
DTEND:20250812T000000
SUMMARY:[A1] Slalom vs. [B2] L3Harris
DESCRIPTION:Division D - City of Richardson Corporate Challenge<br>Sponsored by State Farm
CATEGORIES:QuickScores; Dodgeball Game
TRANSP:0
DALARM:20250812T000000;PT10M;2;[A1] Slalom vs. [B2] L3Harris
END:VEVENT
END:VCALENDAR
