BEGIN:VCALENDAR
VERSION:1.0
BEGIN:VEVENT
DTSTART:20250922T183000
DTEND:20250922T193000
SUMMARY:L3Harris vs. Sendero
DESCRIPTION:D Division Men - City of Richardson Corporate Challenge<br>Sponsored by State Farm
LOCATION:The Billiard Den
CATEGORIES:QuickScores; Billiards Game
TRANSP:0
DALARM:20250922T163000;PT10M;2;L3Harris vs. Sendero
END:VEVENT
BEGIN:VEVENT
DTSTART:20250922T183000
DTEND:20250922T193000
SUMMARY:Ally vs. Stryker
DESCRIPTION:D Division Men - City of Richardson Corporate Challenge<br>Sponsored by State Farm
LOCATION:The Billiard Den
CATEGORIES:QuickScores; Billiards Game
TRANSP:0
DALARM:20250922T163000;PT10M;2;Ally vs. Stryker
END:VEVENT
BEGIN:VEVENT
DTSTART:20250922T183000
DTEND:20250922T193000
SUMMARY:Childress Companies vs. Slalom
DESCRIPTION:D Division Men - City of Richardson Corporate Challenge<br>Sponsored by State Farm
LOCATION:The Billiard Den
CATEGORIES:QuickScores; Billiards Game
TRANSP:0
DALARM:20250922T163000;PT10M;2;Childress Companies vs. Slalom
END:VEVENT
BEGIN:VEVENT
DTSTART:20250922T183000
DTEND:20250922T193000
SUMMARY:Analog Devices vs. L3Harris
DESCRIPTION:D Division Men - City of Richardson Corporate Challenge<br>Sponsored by State Farm
LOCATION:The Billiard Den
CATEGORIES:QuickScores; Billiards Game
TRANSP:0
DALARM:20250922T163000;PT10M;2;Analog Devices vs. L3Harris
END:VEVENT
BEGIN:VEVENT
DTSTART:20250922T000000
DTEND:20250922T000000
SUMMARY:Ally vs. Childress Companies
DESCRIPTION:D Division Men - City of Richardson Corporate Challenge<br>Sponsored by State Farm
LOCATION:The Billiard Den
CATEGORIES:QuickScores; Billiards Game
TRANSP:0
DALARM:20250922T000000;PT10M;2;Ally vs. Childress Companies
END:VEVENT
END:VCALENDAR
