BEGIN:VCALENDAR
VERSION:2.0
PRODID:-//QuickScores.com//BQ Dynamic iCal Creator//EN
METHOD:PUBLISH
X-WR-CALNAME:Fossil - C Division Men - 2025 Corporate Challenge
X-WR-CALDESC:QuickScores game calendar
X-PUBLISHED-TTL:PT24H
REFRESH-INTERVAL;VALUE=DURATION:PT24H
CALSCALE:GREGORIAN
BEGIN:VTIMEZONE
TZID:America/Chicago
X-LIC-LOCATION:America/Chicago
BEGIN:DAYLIGHT
TZNAME:CDT
TZOFFSETFROM:-0600
TZOFFSETTO:-0500
DTSTART:19700308T020000
RRULE:FREQ=YEARLY;BYMONTH=3;BYDAY=2SU
END:DAYLIGHT
BEGIN:STANDARD
TZNAME:CST
TZOFFSETFROM:-0500
TZOFFSETTO:-0600
DTSTART:19701101T020000
RRULE:FREQ=YEARLY;BYMONTH=11;BYDAY=1SU
END:STANDARD
END:VTIMEZONE
BEGIN:VEVENT
UID:cc2-69815672-20250818T183000@quickscores.com
DTSTAMP:20260419T140000Z
DTSTART;TZID=America/Chicago:20250818T183000
DURATION:PT1H0M0S
SUMMARY:Hilton vs. Fossil
DESCRIPTION:C Division Men - City of Richardson Corporate Challenge<br>Sponsored by State Farm
LOCATION:UTD Tennis Center
CATEGORIES:QuickScores, Tennis Game
TRANSP:OPAQUE
BEGIN:VALARM
TRIGGER:-PT2H
ACTION:DISPLAY
DESCRIPTION:Hilton vs. Fossil
END:VALARM
END:VEVENT
BEGIN:VEVENT
UID:cc2-69815675-20250818T200000@quickscores.com
DTSTAMP:20260419T140000Z
DTSTART;TZID=America/Chicago:20250818T200000
DURATION:PT1H0M0S
SUMMARY:Freese and Nichols vs. Fossil
DESCRIPTION:C Division Men - City of Richardson Corporate Challenge<br>Sponsored by State Farm
LOCATION:UTD Tennis Center
CATEGORIES:QuickScores, Tennis Game
TRANSP:OPAQUE
BEGIN:VALARM
TRIGGER:-PT2H
ACTION:DISPLAY
DESCRIPTION:Freese and Nichols vs. Fossil
END:VALARM
END:VEVENT
BEGIN:VEVENT
UID:cc2-69815680-20250819T183000@quickscores.com
DTSTAMP:20260419T140000Z
DTSTART;TZID=America/Chicago:20250819T183000
DURATION:PT1H0M0S
SUMMARY:Fossil vs. CUTX
DESCRIPTION:C Division Men - City of Richardson Corporate Challenge<br>Sponsored by State Farm
LOCATION:UTD Tennis Center
CATEGORIES:QuickScores, Tennis Game
TRANSP:OPAQUE
BEGIN:VALARM
TRIGGER:-PT2H
ACTION:DISPLAY
DESCRIPTION:Fossil vs. CUTX
END:VALARM
END:VEVENT
BEGIN:VEVENT
UID:cc2-69815682-20250819T200000@quickscores.com
DTSTAMP:20260419T140000Z
DTSTART;TZID=America/Chicago:20250819T200000
DURATION:PT1H0M0S
SUMMARY:Leonardo DRS vs. Fossil
DESCRIPTION:C Division Men - City of Richardson Corporate Challenge<br>Sponsored by State Farm
LOCATION:UTD Tennis Center
CATEGORIES:QuickScores, Tennis Game
TRANSP:OPAQUE
BEGIN:VALARM
TRIGGER:-PT2H
ACTION:DISPLAY
DESCRIPTION:Leonardo DRS vs. Fossil
END:VALARM
END:VEVENT
BEGIN:VEVENT
UID:cc2-69815683-20250820T183000@quickscores.com
DTSTAMP:20260419T140000Z
DTSTART;TZID=America/Chicago:20250820T183000
DURATION:PT1H0M0S
SUMMARY:ISN vs. Fossil
DESCRIPTION:C Division Men - City of Richardson Corporate Challenge<br>Sponsored by State Farm
LOCATION:UTD Tennis Center
CATEGORIES:QuickScores, Tennis Game
TRANSP:OPAQUE
BEGIN:VALARM
TRIGGER:-PT2H
ACTION:DISPLAY
DESCRIPTION:ISN vs. Fossil
END:VALARM
END:VEVENT
END:VCALENDAR
