BEGIN:VCALENDAR
VERSION:2.0
PRODID:-//QuickScores.com//BQ Dynamic iCal Creator//EN
METHOD:PUBLISH
X-WR-CALNAME:Hilton - C Division - 2025 Corporate Challenge
X-WR-CALDESC:QuickScores game calendar
X-PUBLISHED-TTL:PT24H
REFRESH-INTERVAL;VALUE=DURATION:PT24H
CALSCALE:GREGORIAN
BEGIN:VTIMEZONE
TZID:America/Chicago
X-LIC-LOCATION:America/Chicago
BEGIN:DAYLIGHT
TZNAME:CDT
TZOFFSETFROM:-0600
TZOFFSETTO:-0500
DTSTART:19700308T020000
RRULE:FREQ=YEARLY;BYMONTH=3;BYDAY=2SU
END:DAYLIGHT
BEGIN:STANDARD
TZNAME:CST
TZOFFSETFROM:-0500
TZOFFSETTO:-0600
DTSTART:19701101T020000
RRULE:FREQ=YEARLY;BYMONTH=11;BYDAY=1SU
END:STANDARD
END:VTIMEZONE
BEGIN:VEVENT
UID:cc2-69912605-20250902T204000@quickscores.com
DTSTAMP:20260424T102100Z
DTSTART;TZID=America/Chicago:20250902T204000
DURATION:PT1H5M0S
SUMMARY:Fossil vs. Hilton
DESCRIPTION:C Division - City of Richardson Corporate Challenge<br>Sponsored by State Farm
LOCATION:Carpenter Park Field A
CATEGORIES:QuickScores, Soccer Game
TRANSP:OPAQUE
BEGIN:VALARM
TRIGGER:-PT2H
ACTION:DISPLAY
DESCRIPTION:Fossil vs. Hilton
END:VALARM
END:VEVENT
BEGIN:VEVENT
UID:cc2-69912609-20250903T183000@quickscores.com
DTSTAMP:20260424T102100Z
DTSTART;TZID=America/Chicago:20250903T183000
DURATION:PT1H5M0S
SUMMARY:Hilton vs. Oncor
DESCRIPTION:C Division - City of Richardson Corporate Challenge<br>Sponsored by State Farm
LOCATION:Carpenter Park Field C
CATEGORIES:QuickScores, Soccer Game
TRANSP:OPAQUE
BEGIN:VALARM
TRIGGER:-PT2H
ACTION:DISPLAY
DESCRIPTION:Hilton vs. Oncor
END:VALARM
END:VEVENT
BEGIN:VEVENT
UID:cc2-69912612-20250904T183000@quickscores.com
DTSTAMP:20260424T102100Z
DTSTART;TZID=America/Chicago:20250904T183000
DURATION:PT1H5M0S
SUMMARY:Hilton vs. Credit Union of Texas
DESCRIPTION:C Division - City of Richardson Corporate Challenge<br>Sponsored by State Farm
LOCATION:Carpenter Park Field A
CATEGORIES:QuickScores, Soccer Game
TRANSP:OPAQUE
BEGIN:VALARM
TRIGGER:-PT2H
ACTION:DISPLAY
DESCRIPTION:Hilton vs. Credit Union of Texas
END:VALARM
END:VEVENT
BEGIN:VEVENT
UID:cc2-69814881-20250912T192000@quickscores.com
DTSTAMP:20260424T102100Z
DTSTART;TZID=America/Chicago:20250912T192000
DURATION:PT1H0M0S
SUMMARY:[B1] ISN vs. [A2] Hilton
DESCRIPTION:C Division - City of Richardson Corporate Challenge<br>Sponsored by State Farm
LOCATION:Carpenter Park Field B
CATEGORIES:QuickScores, Soccer Game
TRANSP:OPAQUE
BEGIN:VALARM
TRIGGER:-PT2H
ACTION:DISPLAY
DESCRIPTION:[B1] ISN vs. [A2] Hilton
END:VALARM
END:VEVENT
BEGIN:VEVENT
UID:cc2-69814882-20250912T213000@quickscores.com
DTSTAMP:20260424T102100Z
DTSTART;TZID=America/Chicago:20250912T213000
DURATION:PT1H5M0S
SUMMARY:[B2] UTD vs. [A2] Hilton
DESCRIPTION:C Division - City of Richardson Corporate Challenge<br>Sponsored by State Farm
LOCATION:Carpenter Park Field B
CATEGORIES:QuickScores, Soccer Game
TRANSP:OPAQUE
BEGIN:VALARM
TRIGGER:-PT2H
ACTION:DISPLAY
DESCRIPTION:[B2] UTD vs. [A2] Hilton
END:VALARM
END:VEVENT
END:VCALENDAR
