BEGIN:VCALENDAR
VERSION:2.0
PRODID:-//QuickScores.com//BQ Dynamic iCal Creator//EN
METHOD:PUBLISH
X-WR-CALNAME:KPMG - A Division - 2025 Corporate Challenge
X-WR-CALDESC:QuickScores game calendar
X-PUBLISHED-TTL:PT24H
REFRESH-INTERVAL;VALUE=DURATION:PT24H
CALSCALE:GREGORIAN
BEGIN:VTIMEZONE
TZID:America/Chicago
X-LIC-LOCATION:America/Chicago
BEGIN:DAYLIGHT
TZNAME:CDT
TZOFFSETFROM:-0600
TZOFFSETTO:-0500
DTSTART:19700308T020000
RRULE:FREQ=YEARLY;BYMONTH=3;BYDAY=2SU
END:DAYLIGHT
BEGIN:STANDARD
TZNAME:CST
TZOFFSETFROM:-0500
TZOFFSETTO:-0600
DTSTART:19701101T020000
RRULE:FREQ=YEARLY;BYMONTH=11;BYDAY=1SU
END:STANDARD
END:VTIMEZONE
BEGIN:VEVENT
UID:cc2-69912570-20250903T193500@quickscores.com
DTSTAMP:20260423T140800Z
DTSTART;TZID=America/Chicago:20250903T193500
DURATION:PT1H5M0S
SUMMARY:KPMG vs. McKesson
DESCRIPTION:A Division - City of Richardson Corporate Challenge<br>Sponsored by State Farm
LOCATION:Carpenter Park Field A
CATEGORIES:QuickScores, Soccer Game
TRANSP:OPAQUE
BEGIN:VALARM
TRIGGER:-PT2H
ACTION:DISPLAY
DESCRIPTION:KPMG vs. McKesson
END:VALARM
END:VEVENT
BEGIN:VEVENT
UID:cc2-69912567-20250904T204000@quickscores.com
DTSTAMP:20260423T140800Z
DTSTART;TZID=America/Chicago:20250904T204000
DURATION:PT1H5M0S
SUMMARY:RTX vs. KPMG
DESCRIPTION:A Division - City of Richardson Corporate Challenge<br>Sponsored by State Farm
LOCATION:Carpenter Park Field C
CATEGORIES:QuickScores, Soccer Game
TRANSP:OPAQUE
BEGIN:VALARM
TRIGGER:-PT2H
ACTION:DISPLAY
DESCRIPTION:RTX vs. KPMG
END:VALARM
END:VEVENT
BEGIN:VEVENT
UID:cc2-69814846-20250911T181500@quickscores.com
DTSTAMP:20260423T140800Z
DTSTART;TZID=America/Chicago:20250911T181500
DURATION:PT1H0M0S
SUMMARY:[B2] KPMG vs. [C2] State Farm
DESCRIPTION:A Division - City of Richardson Corporate Challenge<br>Sponsored by State Farm
LOCATION:Carpenter Park Field C
CATEGORIES:QuickScores, Soccer Game
TRANSP:OPAQUE
BEGIN:VALARM
TRIGGER:-PT2H
ACTION:DISPLAY
DESCRIPTION:[B2] KPMG vs. [C2] State Farm
END:VALARM
END:VEVENT
BEGIN:VEVENT
UID:cc2-69814848-20250911T202500@quickscores.com
DTSTAMP:20260423T140800Z
DTSTART;TZID=America/Chicago:20250911T202500
DURATION:PT1H5M0S
SUMMARY:[A1] PepsiCo vs. [B2] KPMG
DESCRIPTION:A Division - City of Richardson Corporate Challenge<br>Sponsored by State Farm
LOCATION:Carpenter Park Field C
CATEGORIES:QuickScores, Soccer Game
TRANSP:OPAQUE
BEGIN:VALARM
TRIGGER:-PT2H
ACTION:DISPLAY
DESCRIPTION:[A1] PepsiCo vs. [B2] KPMG
END:VALARM
END:VEVENT
BEGIN:VEVENT
UID:cc2-69903480-20250912T181500@quickscores.com
DTSTAMP:20260423T140800Z
DTSTART;TZID=America/Chicago:20250912T181500
DURATION:PT1H5M0S
SUMMARY:[B2] KPMG vs. [B1] RTX
DESCRIPTION:A Division - City of Richardson Corporate Challenge<br>Sponsored by State Farm
LOCATION:Carpenter Park Field B
CATEGORIES:QuickScores, Soccer Game
TRANSP:OPAQUE
BEGIN:VALARM
TRIGGER:-PT2H
ACTION:DISPLAY
DESCRIPTION:[B2] KPMG vs. [B1] RTX
END:VALARM
END:VEVENT
END:VCALENDAR
