BEGIN:VCALENDAR
VERSION:2.0
PRODID:-//QuickScores.com//BQ Dynamic iCal Creator//EN
METHOD:PUBLISH
X-WR-CALNAME:Hilton - C Division - 2025 Corporate Challenge
X-WR-CALDESC:QuickScores game calendar
X-PUBLISHED-TTL:PT24H
REFRESH-INTERVAL;VALUE=DURATION:PT24H
CALSCALE:GREGORIAN
BEGIN:VTIMEZONE
TZID:America/Chicago
X-LIC-LOCATION:America/Chicago
BEGIN:DAYLIGHT
TZNAME:CDT
TZOFFSETFROM:-0600
TZOFFSETTO:-0500
DTSTART:19700308T020000
RRULE:FREQ=YEARLY;BYMONTH=3;BYDAY=2SU
END:DAYLIGHT
BEGIN:STANDARD
TZNAME:CST
TZOFFSETFROM:-0500
TZOFFSETTO:-0600
DTSTART:19701101T020000
RRULE:FREQ=YEARLY;BYMONTH=11;BYDAY=1SU
END:STANDARD
END:VTIMEZONE
BEGIN:VEVENT
UID:cc2-69897455-20250906T130000@quickscores.com
DTSTAMP:20260424T031500Z
DTSTART;TZID=America/Chicago:20250906T130000
DURATION:PT1H0M0S
SUMMARY:Freese and Nichols vs. Hilton
DESCRIPTION:C Division - City of Richardson Corporate Challenge<br>Sponsored by State Farm
LOCATION:Keffler Field #1   (Breckinridge Park)
CATEGORIES:QuickScores, Flag Football Game
TRANSP:OPAQUE
BEGIN:VALARM
TRIGGER:-PT2H
ACTION:DISPLAY
DESCRIPTION:Freese and Nichols vs. Hilton
END:VALARM
END:VEVENT
BEGIN:VEVENT
UID:cc2-69897459-20250906T140000@quickscores.com
DTSTAMP:20260424T031500Z
DTSTART;TZID=America/Chicago:20250906T140000
DURATION:PT1H0M0S
SUMMARY:Hilton vs. Credit Union of Texas
DESCRIPTION:C Division - City of Richardson Corporate Challenge<br>Sponsored by State Farm
LOCATION:Keffler Field #1   (Breckinridge Park)
CATEGORIES:QuickScores, Flag Football Game
TRANSP:OPAQUE
BEGIN:VALARM
TRIGGER:-PT2H
ACTION:DISPLAY
DESCRIPTION:Hilton vs. Credit Union of Texas
END:VALARM
END:VEVENT
BEGIN:VEVENT
UID:cc2-69897450-20250906T190000@quickscores.com
DTSTAMP:20260424T031500Z
DTSTART;TZID=America/Chicago:20250906T190000
DURATION:PT1H0M0S
SUMMARY:Fossil vs. Hilton
DESCRIPTION:C Division - City of Richardson Corporate Challenge<br>Sponsored by State Farm
LOCATION:Keffler Field #3   (Breckinridge Park)
CATEGORIES:QuickScores, Flag Football Game
TRANSP:OPAQUE
BEGIN:VALARM
TRIGGER:-PT2H
ACTION:DISPLAY
DESCRIPTION:Fossil vs. Hilton
END:VALARM
END:VEVENT
BEGIN:VEVENT
UID:cc2-69813720-20250907T120000@quickscores.com
DTSTAMP:20260424T031500Z
DTSTART;TZID=America/Chicago:20250907T120000
DURATION:PT1H0M0S
SUMMARY:[A1] Hilton vs. [B2] Leonardo DRS
DESCRIPTION:C Division - City of Richardson Corporate Challenge<br>Sponsored by State Farm
LOCATION:Keffler Field #1   (Breckinridge Park)
CATEGORIES:QuickScores, Flag Football Game
TRANSP:OPAQUE
BEGIN:VALARM
TRIGGER:-PT2H
ACTION:DISPLAY
DESCRIPTION:[A1] Hilton vs. [B2] Leonardo DRS
END:VALARM
END:VEVENT
BEGIN:VEVENT
UID:cc2-69813723-20250907T140000@quickscores.com
DTSTAMP:20260424T031500Z
DTSTART;TZID=America/Chicago:20250907T140000
DURATION:PT1H0M0S
SUMMARY:[A1] Hilton vs. [A2] Fossil
DESCRIPTION:C Division - City of Richardson Corporate Challenge<br>Sponsored by State Farm
LOCATION:Keffler Field #1   (Breckinridge Park)
CATEGORIES:QuickScores, Flag Football Game
TRANSP:OPAQUE
BEGIN:VALARM
TRIGGER:-PT2H
ACTION:DISPLAY
DESCRIPTION:[A1] Hilton vs. [A2] Fossil
END:VALARM
END:VEVENT
END:VCALENDAR
