BEGIN:VCALENDAR
VERSION:2.0
PRODID:-//QuickScores.com//BQ Dynamic iCal Creator//EN
METHOD:PUBLISH
X-WR-CALNAME:City of Richardson - B Division - 2025 Corporate Challenge
X-WR-CALDESC:QuickScores game calendar
X-PUBLISHED-TTL:PT24H
REFRESH-INTERVAL;VALUE=DURATION:PT24H
CALSCALE:GREGORIAN
BEGIN:VTIMEZONE
TZID:America/Chicago
X-LIC-LOCATION:America/Chicago
BEGIN:DAYLIGHT
TZNAME:CDT
TZOFFSETFROM:-0600
TZOFFSETTO:-0500
DTSTART:19700308T020000
RRULE:FREQ=YEARLY;BYMONTH=3;BYDAY=2SU
END:DAYLIGHT
BEGIN:STANDARD
TZNAME:CST
TZOFFSETFROM:-0500
TZOFFSETTO:-0600
DTSTART:19701101T020000
RRULE:FREQ=YEARLY;BYMONTH=11;BYDAY=1SU
END:STANDARD
END:VTIMEZONE
BEGIN:VEVENT
UID:cc2-69913322-20250906T100000@quickscores.com
DTSTAMP:20260419T132800Z
DTSTART;TZID=America/Chicago:20250906T100000
DURATION:PT1H0M0S
SUMMARY:City of Richardson vs. Geico
DESCRIPTION:B Division - City of Richardson Corporate Challenge<br>Sponsored by State Farm
LOCATION:Keffler Field #4   (Breckinridge Park)
CATEGORIES:QuickScores, Flag Football Game
TRANSP:OPAQUE
BEGIN:VALARM
TRIGGER:-PT2H
ACTION:DISPLAY
DESCRIPTION:City of Richardson vs. Geico
END:VALARM
END:VEVENT
BEGIN:VEVENT
UID:cc2-69913317-20250906T120000@quickscores.com
DTSTAMP:20260419T132800Z
DTSTART;TZID=America/Chicago:20250906T120000
DURATION:PT1H0M0S
SUMMARY:Baylor Heart Hospital vs. City of Richardson
DESCRIPTION:B Division - City of Richardson Corporate Challenge<br>Sponsored by State Farm
LOCATION:Keffler Field #2   (Breckinridge Park)
CATEGORIES:QuickScores, Flag Football Game
TRANSP:OPAQUE
BEGIN:VALARM
TRIGGER:-PT2H
ACTION:DISPLAY
DESCRIPTION:Baylor Heart Hospital vs. City of Richardson
END:VALARM
END:VEVENT
BEGIN:VEVENT
UID:cc2-69913320-20250906T180000@quickscores.com
DTSTAMP:20260419T132800Z
DTSTART;TZID=America/Chicago:20250906T180000
DURATION:PT1H0M0S
SUMMARY:City of Richardson vs. 7-Eleven
DESCRIPTION:B Division - City of Richardson Corporate Challenge<br>Sponsored by State Farm
LOCATION:Keffler Field #3   (Breckinridge Park)
CATEGORIES:QuickScores, Flag Football Game
TRANSP:OPAQUE
BEGIN:VALARM
TRIGGER:-PT2H
ACTION:DISPLAY
DESCRIPTION:City of Richardson vs. 7-Eleven
END:VALARM
END:VEVENT
END:VCALENDAR
