BEGIN:VCALENDAR
VERSION:2.0
PRODID:-//QuickScores.com//BQ Dynamic iCal Creator//EN
METHOD:PUBLISH
X-WR-CALNAME:L3Harris - Division D - 2025 Corporate Challenge
X-WR-CALDESC:QuickScores game calendar
X-PUBLISHED-TTL:PT24H
REFRESH-INTERVAL;VALUE=DURATION:PT24H
CALSCALE:GREGORIAN
BEGIN:VTIMEZONE
TZID:America/Chicago
X-LIC-LOCATION:America/Chicago
BEGIN:DAYLIGHT
TZNAME:CDT
TZOFFSETFROM:-0600
TZOFFSETTO:-0500
DTSTART:19700308T020000
RRULE:FREQ=YEARLY;BYMONTH=3;BYDAY=2SU
END:DAYLIGHT
BEGIN:STANDARD
TZNAME:CST
TZOFFSETFROM:-0500
TZOFFSETTO:-0600
DTSTART:19701101T020000
RRULE:FREQ=YEARLY;BYMONTH=11;BYDAY=1SU
END:STANDARD
END:VTIMEZONE
BEGIN:VEVENT
UID:cc2-69892620-20250812T183200@quickscores.com
DTSTAMP:20260423T103800Z
DTSTART;TZID=America/Chicago:20250812T183200
DURATION:PT0H1M0S
SUMMARY:L3Harris vs. Sendero Consulting
DESCRIPTION:Division D - City of Richardson Corporate Challenge<br>Sponsored by State Farm
LOCATION:Heights Rec Center
CATEGORIES:QuickScores, Dodgeball Game
TRANSP:OPAQUE
BEGIN:VALARM
TRIGGER:-PT2H
ACTION:DISPLAY
DESCRIPTION:L3Harris vs. Sendero Consulting
END:VALARM
END:VEVENT
BEGIN:VEVENT
UID:cc2-69892622-20250812T183500@quickscores.com
DTSTAMP:20260423T103800Z
DTSTART;TZID=America/Chicago:20250812T183500
DURATION:PT0H1M0S
SUMMARY:Slalom vs. L3Harris
DESCRIPTION:Division D - City of Richardson Corporate Challenge<br>Sponsored by State Farm
LOCATION:Heights Rec Center
CATEGORIES:QuickScores, Dodgeball Game
TRANSP:OPAQUE
BEGIN:VALARM
TRIGGER:-PT2H
ACTION:DISPLAY
DESCRIPTION:Slalom vs. L3Harris
END:VALARM
END:VEVENT
BEGIN:VEVENT
UID:cc2-69892626-20250812T183700@quickscores.com
DTSTAMP:20260423T103800Z
DTSTART;TZID=America/Chicago:20250812T183700
DURATION:PT0H1M0S
SUMMARY:L3Harris vs. Stryker
DESCRIPTION:Division D - City of Richardson Corporate Challenge<br>Sponsored by State Farm
LOCATION:Heights Rec Center
CATEGORIES:QuickScores, Dodgeball Game
TRANSP:OPAQUE
BEGIN:VALARM
TRIGGER:-PT2H
ACTION:DISPLAY
DESCRIPTION:L3Harris vs. Stryker
END:VALARM
END:VEVENT
BEGIN:VEVENT
UID:cc2-69813325-20250812@quickscores.com
DTSTAMP:20260423T103800Z
DTSTART;TZID=America/Chicago:20250812
SUMMARY:[A1] Slalom vs. [B2] L3Harris
DESCRIPTION:Division D - City of Richardson Corporate Challenge<br>Sponsored by State Farm
CATEGORIES:QuickScores, Dodgeball Game
TRANSP:OPAQUE
BEGIN:VALARM
TRIGGER:-PT2H
ACTION:DISPLAY
DESCRIPTION:[A1] Slalom vs. [B2] L3Harris
END:VALARM
END:VEVENT
BEGIN:VEVENT
UID:cc2-69813327-20250812@quickscores.com
DTSTAMP:20260423T103800Z
DTSTART;TZID=America/Chicago:20250812
SUMMARY:[B2] L3Harris vs. [A2] Analog Devices
DESCRIPTION:Division D - City of Richardson Corporate Challenge<br>Sponsored by State Farm
CATEGORIES:QuickScores, Dodgeball Game
TRANSP:OPAQUE
BEGIN:VALARM
TRIGGER:-PT2H
ACTION:DISPLAY
DESCRIPTION:[B2] L3Harris vs. [A2] Analog Devices
END:VALARM
END:VEVENT
END:VCALENDAR
