BEGIN:VCALENDAR
VERSION:2.0
PRODID:-//QuickScores.com//BQ Dynamic iCal Creator//EN
METHOD:PUBLISH
X-WR-CALNAME:City of Richardson - Division B - 2025 Corporate Challenge
X-WR-CALDESC:QuickScores game calendar
X-PUBLISHED-TTL:PT24H
REFRESH-INTERVAL;VALUE=DURATION:PT24H
CALSCALE:GREGORIAN
BEGIN:VTIMEZONE
TZID:America/Chicago
X-LIC-LOCATION:America/Chicago
BEGIN:DAYLIGHT
TZNAME:CDT
TZOFFSETFROM:-0600
TZOFFSETTO:-0500
DTSTART:19700308T020000
RRULE:FREQ=YEARLY;BYMONTH=3;BYDAY=2SU
END:DAYLIGHT
BEGIN:STANDARD
TZNAME:CST
TZOFFSETFROM:-0500
TZOFFSETTO:-0600
DTSTART:19701101T020000
RRULE:FREQ=YEARLY;BYMONTH=11;BYDAY=1SU
END:STANDARD
END:VTIMEZONE
BEGIN:VEVENT
UID:cc2-69892437-20250811T183100@quickscores.com
DTSTAMP:20260419T075700Z
DTSTART;TZID=America/Chicago:20250811T183100
DURATION:PT0H1M0S
SUMMARY:Geico vs. City of Richardson
DESCRIPTION:Division B - City of Richardson Corporate Challenge<br>Sponsored by State Farm
LOCATION:Heights Rec Center
CATEGORIES:QuickScores, Dodgeball Game
TRANSP:OPAQUE
BEGIN:VALARM
TRIGGER:-PT2H
ACTION:DISPLAY
DESCRIPTION:Geico vs. City of Richardson
END:VALARM
END:VEVENT
BEGIN:VEVENT
UID:cc2-69892440-20250811T183400@quickscores.com
DTSTAMP:20260419T075700Z
DTSTART;TZID=America/Chicago:20250811T183400
DURATION:PT0H1M0S
SUMMARY:City of Richardson vs. Globe Life
DESCRIPTION:Division B - City of Richardson Corporate Challenge<br>Sponsored by State Farm
LOCATION:Heights Rec Center
CATEGORIES:QuickScores, Dodgeball Game
TRANSP:OPAQUE
BEGIN:VALARM
TRIGGER:-PT2H
ACTION:DISPLAY
DESCRIPTION:City of Richardson vs. Globe Life
END:VALARM
END:VEVENT
BEGIN:VEVENT
UID:cc2-69813274-20250811@quickscores.com
DTSTAMP:20260419T075700Z
DTSTART;TZID=America/Chicago:20250811
SUMMARY:[B2] City of Richardson vs. [C2] Texas Capital Bank
DESCRIPTION:Division B - City of Richardson Corporate Challenge<br>Sponsored by State Farm
CATEGORIES:QuickScores, Dodgeball Game
TRANSP:OPAQUE
BEGIN:VALARM
TRIGGER:-PT2H
ACTION:DISPLAY
DESCRIPTION:[B2] City of Richardson vs. [C2] Texas Capital Bank
END:VALARM
END:VEVENT
BEGIN:VEVENT
UID:cc2-69813277-20250811@quickscores.com
DTSTAMP:20260419T075700Z
DTSTART;TZID=America/Chicago:20250811
SUMMARY:[A1] Baylor Heart Hospital vs. [B2] City of Richardson
DESCRIPTION:Division B - City of Richardson Corporate Challenge<br>Sponsored by State Farm
CATEGORIES:QuickScores, Dodgeball Game
TRANSP:OPAQUE
BEGIN:VALARM
TRIGGER:-PT2H
ACTION:DISPLAY
DESCRIPTION:[A1] Baylor Heart Hospital vs. [B2] City of Richardson
END:VALARM
END:VEVENT
BEGIN:VEVENT
UID:cc2-69813279-20250811@quickscores.com
DTSTAMP:20260419T075700Z
DTSTART;TZID=America/Chicago:20250811
SUMMARY:[B2] City of Richardson vs. [A2] 7-Eleven
DESCRIPTION:Division B - City of Richardson Corporate Challenge<br>Sponsored by State Farm
CATEGORIES:QuickScores, Dodgeball Game
TRANSP:OPAQUE
BEGIN:VALARM
TRIGGER:-PT2H
ACTION:DISPLAY
DESCRIPTION:[B2] City of Richardson vs. [A2] 7-Eleven
END:VALARM
END:VEVENT
END:VCALENDAR
