BEGIN:VCALENDAR
VERSION:2.0
PRODID:-//QuickScores.com//BQ Dynamic iCal Creator//EN
METHOD:PUBLISH
X-WR-CALNAME:Continental Electronics - Division F - 2025 Corporate Challenge
X-WR-CALDESC:QuickScores game calendar
X-PUBLISHED-TTL:PT24H
REFRESH-INTERVAL;VALUE=DURATION:PT24H
CALSCALE:GREGORIAN
BEGIN:VTIMEZONE
TZID:America/Chicago
X-LIC-LOCATION:America/Chicago
BEGIN:DAYLIGHT
TZNAME:CDT
TZOFFSETFROM:-0600
TZOFFSETTO:-0500
DTSTART:19700308T020000
RRULE:FREQ=YEARLY;BYMONTH=3;BYDAY=2SU
END:DAYLIGHT
BEGIN:STANDARD
TZNAME:CST
TZOFFSETFROM:-0500
TZOFFSETTO:-0600
DTSTART:19701101T020000
RRULE:FREQ=YEARLY;BYMONTH=11;BYDAY=1SU
END:STANDARD
END:VTIMEZONE
BEGIN:VEVENT
UID:cc2-69887767-20250816T120000@quickscores.com
DTSTAMP:20260419T131200Z
DTSTART;TZID=America/Chicago:20250816T120000
DURATION:PT1H0M0S
SUMMARY:Continental Electronics vs. Moss Adams x Baker Tilly
DESCRIPTION:Division F - City of Richardson Corporate Challenge<br>Sponsored by State Farm
LOCATION:PSA Murphy Court 3
CATEGORIES:QuickScores, Basketball Game
TRANSP:OPAQUE
BEGIN:VALARM
TRIGGER:-PT2H
ACTION:DISPLAY
DESCRIPTION:Continental Electronics vs. Moss Adams x Baker Tilly
END:VALARM
END:VEVENT
BEGIN:VEVENT
UID:cc2-69887772-20250817T100000@quickscores.com
DTSTAMP:20260419T131200Z
DTSTART;TZID=America/Chicago:20250817T100000
DURATION:PT1H0M0S
SUMMARY:Airbus vs. Continental Electronics
DESCRIPTION:Division F - City of Richardson Corporate Challenge<br>Sponsored by State Farm
LOCATION:PSA Murphy Court 1
CATEGORIES:QuickScores, Basketball Game
TRANSP:OPAQUE
BEGIN:VALARM
TRIGGER:-PT2H
ACTION:DISPLAY
DESCRIPTION:Airbus vs. Continental Electronics
END:VALARM
END:VEVENT
BEGIN:VEVENT
UID:cc2-69887765-20250817T120000@quickscores.com
DTSTAMP:20260419T131200Z
DTSTART;TZID=America/Chicago:20250817T120000
DURATION:PT1H0M0S
SUMMARY:Continental Electronics vs. BMO Bank
DESCRIPTION:Division F - City of Richardson Corporate Challenge<br>Sponsored by State Farm
LOCATION:PSA Murphy Court 1
CATEGORIES:QuickScores, Basketball Game
TRANSP:OPAQUE
BEGIN:VALARM
TRIGGER:-PT2H
ACTION:DISPLAY
DESCRIPTION:Continental Electronics vs. BMO Bank
END:VALARM
END:VEVENT
BEGIN:VEVENT
UID:cc2-69889499-20250823T100000@quickscores.com
DTSTAMP:20260419T131200Z
DTSTART;TZID=America/Chicago:20250823T100000
DURATION:PT1H0M0S
SUMMARY:[1] BMO Bank vs. [4] Continental Electronics
DESCRIPTION:Division F - City of Richardson Corporate Challenge<br>Sponsored by State Farm
LOCATION:PSA1 Court #4
CATEGORIES:QuickScores, Basketball Game
TRANSP:OPAQUE
BEGIN:VALARM
TRIGGER:-PT2H
ACTION:DISPLAY
DESCRIPTION:[1] BMO Bank vs. [4] Continental Electronics
END:VALARM
END:VEVENT
BEGIN:VEVENT
UID:cc2-69889501-20250823T120000@quickscores.com
DTSTAMP:20260419T131200Z
DTSTART;TZID=America/Chicago:20250823T120000
DURATION:PT1H0M0S
SUMMARY:[4] Continental Electronics vs. [3] Airbus
DESCRIPTION:Division F - City of Richardson Corporate Challenge<br>Sponsored by State Farm
LOCATION:PSA1 Court #2
CATEGORIES:QuickScores, Basketball Game
TRANSP:OPAQUE
BEGIN:VALARM
TRIGGER:-PT2H
ACTION:DISPLAY
DESCRIPTION:[4] Continental Electronics vs. [3] Airbus
END:VALARM
END:VEVENT
END:VCALENDAR
