BEGIN:VCALENDAR
VERSION:2.0
PRODID:-//QuickScores.com//BQ Dynamic iCal Creator//EN
METHOD:PUBLISH
X-WR-CALNAME:LJA Engineering - Division B - 2025 Corporate Challenge
X-WR-CALDESC:QuickScores game calendar
X-PUBLISHED-TTL:PT24H
REFRESH-INTERVAL;VALUE=DURATION:PT24H
CALSCALE:GREGORIAN
BEGIN:VTIMEZONE
TZID:America/Chicago
X-LIC-LOCATION:America/Chicago
BEGIN:DAYLIGHT
TZNAME:CDT
TZOFFSETFROM:-0600
TZOFFSETTO:-0500
DTSTART:19700308T020000
RRULE:FREQ=YEARLY;BYMONTH=3;BYDAY=2SU
END:DAYLIGHT
BEGIN:STANDARD
TZNAME:CST
TZOFFSETFROM:-0500
TZOFFSETTO:-0600
DTSTART:19701101T020000
RRULE:FREQ=YEARLY;BYMONTH=11;BYDAY=1SU
END:STANDARD
END:VTIMEZONE
BEGIN:VEVENT
UID:cc2-69888624-20250816T100000@quickscores.com
DTSTAMP:20260419T072200Z
DTSTART;TZID=America/Chicago:20250816T100000
DURATION:PT1H0M0S
SUMMARY:7-Eleven vs. LJA Engineering
DESCRIPTION:Division B - City of Richardson Corporate Challenge<br>Sponsored by State Farm
LOCATION:PSA Murphy Court 3
CATEGORIES:QuickScores, Basketball Game
TRANSP:OPAQUE
BEGIN:VALARM
TRIGGER:-PT2H
ACTION:DISPLAY
DESCRIPTION:7-Eleven vs. LJA Engineering
END:VALARM
END:VEVENT
BEGIN:VEVENT
UID:cc2-69888618-20250816T120000@quickscores.com
DTSTAMP:20260419T072200Z
DTSTART;TZID=America/Chicago:20250816T120000
DURATION:PT1H0M0S
SUMMARY:LJA Engineering vs. Globe Life
DESCRIPTION:Division B - City of Richardson Corporate Challenge<br>Sponsored by State Farm
LOCATION:PSA Murphy Court 1
CATEGORIES:QuickScores, Basketball Game
TRANSP:OPAQUE
BEGIN:VALARM
TRIGGER:-PT2H
ACTION:DISPLAY
DESCRIPTION:LJA Engineering vs. Globe Life
END:VALARM
END:VEVENT
BEGIN:VEVENT
UID:cc2-69807128-20250822T200000@quickscores.com
DTSTAMP:20260419T072200Z
DTSTART;TZID=America/Chicago:20250822T200000
DURATION:PT1H0M0S
SUMMARY:[B2] HF Sinclair vs. [C2] LJA Engineering
DESCRIPTION:Division B - City of Richardson Corporate Challenge<br>Sponsored by State Farm
LOCATION:PSA1 Court #4
CATEGORIES:QuickScores, Basketball Game
TRANSP:OPAQUE
BEGIN:VALARM
TRIGGER:-PT2H
ACTION:DISPLAY
DESCRIPTION:[B2] HF Sinclair vs. [C2] LJA Engineering
END:VALARM
END:VEVENT
BEGIN:VEVENT
UID:cc2-69807130-20250823T130000@quickscores.com
DTSTAMP:20260419T072200Z
DTSTART;TZID=America/Chicago:20250823T130000
DURATION:PT1H0M0S
SUMMARY:[A1] Texas Capital Bank vs. [C2] LJA Engineering
DESCRIPTION:Division B - City of Richardson Corporate Challenge<br>Sponsored by State Farm
LOCATION:PSA1 Court #4
CATEGORIES:QuickScores, Basketball Game
TRANSP:OPAQUE
BEGIN:VALARM
TRIGGER:-PT2H
ACTION:DISPLAY
DESCRIPTION:[A1] Texas Capital Bank vs. [C2] LJA Engineering
END:VALARM
END:VEVENT
BEGIN:VEVENT
UID:cc2-69888570-20250823T150000@quickscores.com
DTSTAMP:20260419T072200Z
DTSTART;TZID=America/Chicago:20250823T150000
DURATION:PT1H0M0S
SUMMARY:[C2] LJA Engineering vs. [B1] Geico
DESCRIPTION:Division B - City of Richardson Corporate Challenge<br>Sponsored by State Farm
LOCATION:PSA1 Court #4
CATEGORIES:QuickScores, Basketball Game
TRANSP:OPAQUE
BEGIN:VALARM
TRIGGER:-PT2H
ACTION:DISPLAY
DESCRIPTION:[C2] LJA Engineering vs. [B1] Geico
END:VALARM
END:VEVENT
END:VCALENDAR
