BEGIN:VCALENDAR
VERSION:2.0
PRODID:-//QuickScores.com//BQ Dynamic iCal Creator//EN
METHOD:PUBLISH
X-WR-CALNAME:Division C - 2025 Corporate Challenge
X-WR-CALDESC:QuickScores game calendar
X-PUBLISHED-TTL:PT24H
REFRESH-INTERVAL;VALUE=DURATION:PT24H
CALSCALE:GREGORIAN
BEGIN:VTIMEZONE
TZID:America/Chicago
X-LIC-LOCATION:America/Chicago
BEGIN:DAYLIGHT
TZNAME:CDT
TZOFFSETFROM:-0600
TZOFFSETTO:-0500
DTSTART:19700308T020000
RRULE:FREQ=YEARLY;BYMONTH=3;BYDAY=2SU
END:DAYLIGHT
BEGIN:STANDARD
TZNAME:CST
TZOFFSETFROM:-0500
TZOFFSETTO:-0600
DTSTART:19701101T020000
RRULE:FREQ=YEARLY;BYMONTH=11;BYDAY=1SU
END:STANDARD
END:VTIMEZONE
BEGIN:VEVENT
UID:cc2-69891194-20250809T120000@quickscores.com
DTSTAMP:20260419T184200Z
DTSTART;TZID=America/Chicago:20250809T120000
DURATION:PT1H0M0S
SUMMARY:Freese and Nichols vs. Fossil
DESCRIPTION:Division C - City of Richardson Corporate Challenge<br>Sponsored by State Farm
LOCATION:Net Results Sports Center #3
CATEGORIES:QuickScores, Volleyball Game
TRANSP:OPAQUE
BEGIN:VALARM
TRIGGER:-PT2H
ACTION:DISPLAY
DESCRIPTION:Freese and Nichols vs. Fossil
END:VALARM
END:VEVENT
BEGIN:VEVENT
UID:cc2-69891195-20250809T120000@quickscores.com
DTSTAMP:20260419T184200Z
DTSTART;TZID=America/Chicago:20250809T120000
DURATION:PT1H0M0S
SUMMARY:Credit Union of Texas vs. Hilton
DESCRIPTION:Division C - City of Richardson Corporate Challenge<br>Sponsored by State Farm
LOCATION:Net Results Sports Center #2
CATEGORIES:QuickScores, Volleyball Game
TRANSP:OPAQUE
BEGIN:VALARM
TRIGGER:-PT2H
ACTION:DISPLAY
DESCRIPTION:Credit Union of Texas vs. Hilton
END:VALARM
END:VEVENT
BEGIN:VEVENT
UID:cc2-69891197-20250809T120000@quickscores.com
DTSTAMP:20260419T184200Z
DTSTART;TZID=America/Chicago:20250809T120000
DURATION:PT1H0M0S
SUMMARY:Leonardo DRS vs. Oncor
DESCRIPTION:Division C - City of Richardson Corporate Challenge<br>Sponsored by State Farm
LOCATION:Net Results Sports Center #1
CATEGORIES:QuickScores, Volleyball Game
TRANSP:OPAQUE
BEGIN:VALARM
TRIGGER:-PT2H
ACTION:DISPLAY
DESCRIPTION:Leonardo DRS vs. Oncor
END:VALARM
END:VEVENT
BEGIN:VEVENT
UID:cc2-69891196-20250809T130000@quickscores.com
DTSTAMP:20260419T184200Z
DTSTART;TZID=America/Chicago:20250809T130000
DURATION:PT1H0M0S
SUMMARY:UTD vs. ISN
DESCRIPTION:Division C - City of Richardson Corporate Challenge<br>Sponsored by State Farm
LOCATION:Net Results Sports Center #2
CATEGORIES:QuickScores, Volleyball Game
TRANSP:OPAQUE
BEGIN:VALARM
TRIGGER:-PT2H
ACTION:DISPLAY
DESCRIPTION:UTD vs. ISN
END:VALARM
END:VEVENT
BEGIN:VEVENT
UID:cc2-69891199-20250809T130000@quickscores.com
DTSTAMP:20260419T184200Z
DTSTART;TZID=America/Chicago:20250809T130000
DURATION:PT1H0M0S
SUMMARY:Hilton vs. Freese and Nichols
DESCRIPTION:Division C - City of Richardson Corporate Challenge<br>Sponsored by State Farm
LOCATION:Net Results Sports Center #3
CATEGORIES:QuickScores, Volleyball Game
TRANSP:OPAQUE
BEGIN:VALARM
TRIGGER:-PT2H
ACTION:DISPLAY
DESCRIPTION:Hilton vs. Freese and Nichols
END:VALARM
END:VEVENT
BEGIN:VEVENT
UID:cc2-69891198-20250809T130000@quickscores.com
DTSTAMP:20260419T184200Z
DTSTART;TZID=America/Chicago:20250809T130000
DURATION:PT1H0M0S
SUMMARY:Fossil vs. Credit Union of Texas
DESCRIPTION:Division C - City of Richardson Corporate Challenge<br>Sponsored by State Farm
LOCATION:Net Results Sports Center #1
CATEGORIES:QuickScores, Volleyball Game
TRANSP:OPAQUE
BEGIN:VALARM
TRIGGER:-PT2H
ACTION:DISPLAY
DESCRIPTION:Fossil vs. Credit Union of Texas
END:VALARM
END:VEVENT
BEGIN:VEVENT
UID:cc2-69891200-20250809T140000@quickscores.com
DTSTAMP:20260419T184200Z
DTSTART;TZID=America/Chicago:20250809T140000
DURATION:PT1H0M0S
SUMMARY:ISN vs. Leonardo DRS
DESCRIPTION:Division C - City of Richardson Corporate Challenge<br>Sponsored by State Farm
LOCATION:Net Results Sports Center #2
CATEGORIES:QuickScores, Volleyball Game
TRANSP:OPAQUE
BEGIN:VALARM
TRIGGER:-PT2H
ACTION:DISPLAY
DESCRIPTION:ISN vs. Leonardo DRS
END:VALARM
END:VEVENT
BEGIN:VEVENT
UID:cc2-69891201-20250809T140000@quickscores.com
DTSTAMP:20260419T184200Z
DTSTART;TZID=America/Chicago:20250809T140000
DURATION:PT1H0M0S
SUMMARY:Oncor vs. UTD
DESCRIPTION:Division C - City of Richardson Corporate Challenge<br>Sponsored by State Farm
LOCATION:Net Results Sports Center #1
CATEGORIES:QuickScores, Volleyball Game
TRANSP:OPAQUE
BEGIN:VALARM
TRIGGER:-PT2H
ACTION:DISPLAY
DESCRIPTION:Oncor vs. UTD
END:VALARM
END:VEVENT
BEGIN:VEVENT
UID:cc2-69815812-20250810T090000@quickscores.com
DTSTAMP:20260419T184200Z
DTSTART;TZID=America/Chicago:20250810T090000
DURATION:PT1H0M0S
SUMMARY:[B1] Oncor vs. [A2] Hilton
DESCRIPTION:Division C - City of Richardson Corporate Challenge<br>Sponsored by State Farm
LOCATION:Net Results Sports Center #4
CATEGORIES:QuickScores, Volleyball Game
TRANSP:OPAQUE
BEGIN:VALARM
TRIGGER:-PT2H
ACTION:DISPLAY
DESCRIPTION:[B1] Oncor vs. [A2] Hilton
END:VALARM
END:VEVENT
BEGIN:VEVENT
UID:cc2-69815811-20250810T090000@quickscores.com
DTSTAMP:20260419T184200Z
DTSTART;TZID=America/Chicago:20250810T090000
DURATION:PT1H0M0S
SUMMARY:[A1] Fossil vs. [B2] ISN
DESCRIPTION:Division C - City of Richardson Corporate Challenge<br>Sponsored by State Farm
LOCATION:Net Results Sports Center #3
CATEGORIES:QuickScores, Volleyball Game
TRANSP:OPAQUE
BEGIN:VALARM
TRIGGER:-PT2H
ACTION:DISPLAY
DESCRIPTION:[A1] Fossil vs. [B2] ISN
END:VALARM
END:VEVENT
BEGIN:VEVENT
UID:cc2-69815814-20250810T110000@quickscores.com
DTSTAMP:20260419T184200Z
DTSTART;TZID=America/Chicago:20250810T110000
DURATION:PT1H0M0S
SUMMARY:[B2] ISN vs. [B1] Oncor
DESCRIPTION:Division C - City of Richardson Corporate Challenge<br>Sponsored by State Farm
LOCATION:Net Results Sports Center #3
CATEGORIES:QuickScores, Volleyball Game
TRANSP:OPAQUE
BEGIN:VALARM
TRIGGER:-PT2H
ACTION:DISPLAY
DESCRIPTION:[B2] ISN vs. [B1] Oncor
END:VALARM
END:VEVENT
BEGIN:VEVENT
UID:cc2-69815813-20250810T110000@quickscores.com
DTSTAMP:20260419T184200Z
DTSTART;TZID=America/Chicago:20250810T110000
DURATION:PT1H0M0S
SUMMARY:[A1] Fossil vs. [A2] Hilton
DESCRIPTION:Division C - City of Richardson Corporate Challenge<br>Sponsored by State Farm
LOCATION:Net Results Sports Center #4
CATEGORIES:QuickScores, Volleyball Game
TRANSP:OPAQUE
BEGIN:VALARM
TRIGGER:-PT2H
ACTION:DISPLAY
DESCRIPTION:[A1] Fossil vs. [A2] Hilton
END:VALARM
END:VEVENT
END:VCALENDAR
