BEGIN:VCALENDAR
VERSION:2.0
PRODID:-//QuickScores.com//BQ Dynamic iCal Creator//EN
METHOD:PUBLISH
X-WR-CALNAME:Division B - 2025 Corporate Challenge
X-WR-CALDESC:QuickScores game calendar
X-PUBLISHED-TTL:PT24H
REFRESH-INTERVAL;VALUE=DURATION:PT24H
CALSCALE:GREGORIAN
BEGIN:VTIMEZONE
TZID:America/Chicago
X-LIC-LOCATION:America/Chicago
BEGIN:DAYLIGHT
TZNAME:CDT
TZOFFSETFROM:-0600
TZOFFSETTO:-0500
DTSTART:19700308T020000
RRULE:FREQ=YEARLY;BYMONTH=3;BYDAY=2SU
END:DAYLIGHT
BEGIN:STANDARD
TZNAME:CST
TZOFFSETFROM:-0500
TZOFFSETTO:-0600
DTSTART:19701101T020000
RRULE:FREQ=YEARLY;BYMONTH=11;BYDAY=1SU
END:STANDARD
END:VTIMEZONE
BEGIN:VEVENT
UID:cc2-69889878-20250809T150000@quickscores.com
DTSTAMP:20260424T064500Z
DTSTART;TZID=America/Chicago:20250809T150000
DURATION:PT1H0M0S
SUMMARY:HF Sinclair vs. Texas Capital Bank
DESCRIPTION:Division B - City of Richardson Corporate Challenge<br>Sponsored by State Farm
LOCATION:Net Results Sports Center #1
CATEGORIES:QuickScores, Volleyball Game
TRANSP:OPAQUE
BEGIN:VALARM
TRIGGER:-PT2H
ACTION:DISPLAY
DESCRIPTION:HF Sinclair vs. Texas Capital Bank
END:VALARM
END:VEVENT
BEGIN:VEVENT
UID:cc2-69889877-20250809T150000@quickscores.com
DTSTAMP:20260424T064500Z
DTSTART;TZID=America/Chicago:20250809T150000
DURATION:PT1H0M0S
SUMMARY:City of Richardson vs. Geico
DESCRIPTION:Division B - City of Richardson Corporate Challenge<br>Sponsored by State Farm
LOCATION:Net Results Sports Center #3
CATEGORIES:QuickScores, Volleyball Game
TRANSP:OPAQUE
BEGIN:VALARM
TRIGGER:-PT2H
ACTION:DISPLAY
DESCRIPTION:City of Richardson vs. Geico
END:VALARM
END:VEVENT
BEGIN:VEVENT
UID:cc2-69889876-20250809T150000@quickscores.com
DTSTAMP:20260424T064500Z
DTSTART;TZID=America/Chicago:20250809T150000
DURATION:PT1H0M0S
SUMMARY:Cisco vs. 7-Eleven
DESCRIPTION:Division B - City of Richardson Corporate Challenge<br>Sponsored by State Farm
LOCATION:Net Results Sports Center #2
CATEGORIES:QuickScores, Volleyball Game
TRANSP:OPAQUE
BEGIN:VALARM
TRIGGER:-PT2H
ACTION:DISPLAY
DESCRIPTION:Cisco vs. 7-Eleven
END:VALARM
END:VEVENT
BEGIN:VEVENT
UID:cc2-69889875-20250809T160000@quickscores.com
DTSTAMP:20260424T064500Z
DTSTART;TZID=America/Chicago:20250809T160000
DURATION:PT1H0M0S
SUMMARY:LJA Engineering vs. HF Sinclair
DESCRIPTION:Division B - City of Richardson Corporate Challenge<br>Sponsored by State Farm
LOCATION:Net Results Sports Center #3
CATEGORIES:QuickScores, Volleyball Game
TRANSP:OPAQUE
BEGIN:VALARM
TRIGGER:-PT2H
ACTION:DISPLAY
DESCRIPTION:LJA Engineering vs. HF Sinclair
END:VALARM
END:VEVENT
BEGIN:VEVENT
UID:cc2-69889874-20250809T160000@quickscores.com
DTSTAMP:20260424T064500Z
DTSTART;TZID=America/Chicago:20250809T160000
DURATION:PT1H0M0S
SUMMARY:Globe Life vs. City of Richardson
DESCRIPTION:Division B - City of Richardson Corporate Challenge<br>Sponsored by State Farm
LOCATION:Net Results Sports Center #1
CATEGORIES:QuickScores, Volleyball Game
TRANSP:OPAQUE
BEGIN:VALARM
TRIGGER:-PT2H
ACTION:DISPLAY
DESCRIPTION:Globe Life vs. City of Richardson
END:VALARM
END:VEVENT
BEGIN:VEVENT
UID:cc2-69889873-20250809T160000@quickscores.com
DTSTAMP:20260424T064500Z
DTSTART;TZID=America/Chicago:20250809T160000
DURATION:PT1H0M0S
SUMMARY:Baylor Heart Hospital vs. Cisco
DESCRIPTION:Division B - City of Richardson Corporate Challenge<br>Sponsored by State Farm
LOCATION:Net Results Sports Center #2
CATEGORIES:QuickScores, Volleyball Game
TRANSP:OPAQUE
BEGIN:VALARM
TRIGGER:-PT2H
ACTION:DISPLAY
DESCRIPTION:Baylor Heart Hospital vs. Cisco
END:VALARM
END:VEVENT
BEGIN:VEVENT
UID:cc2-69889872-20250809T170000@quickscores.com
DTSTAMP:20260424T064500Z
DTSTART;TZID=America/Chicago:20250809T170000
DURATION:PT1H0M0S
SUMMARY:Texas Capital Bank vs. LJA Engineering
DESCRIPTION:Division B - City of Richardson Corporate Challenge<br>Sponsored by State Farm
LOCATION:Net Results Sports Center #3
CATEGORIES:QuickScores, Volleyball Game
TRANSP:OPAQUE
BEGIN:VALARM
TRIGGER:-PT2H
ACTION:DISPLAY
DESCRIPTION:Texas Capital Bank vs. LJA Engineering
END:VALARM
END:VEVENT
BEGIN:VEVENT
UID:cc2-69889871-20250809T170000@quickscores.com
DTSTAMP:20260424T064500Z
DTSTART;TZID=America/Chicago:20250809T170000
DURATION:PT1H0M0S
SUMMARY:Geico vs. Globe Life
DESCRIPTION:Division B - City of Richardson Corporate Challenge<br>Sponsored by State Farm
LOCATION:Net Results Sports Center #2
CATEGORIES:QuickScores, Volleyball Game
TRANSP:OPAQUE
BEGIN:VALARM
TRIGGER:-PT2H
ACTION:DISPLAY
DESCRIPTION:Geico vs. Globe Life
END:VALARM
END:VEVENT
BEGIN:VEVENT
UID:cc2-69889870-20250809T170000@quickscores.com
DTSTAMP:20260424T064500Z
DTSTART;TZID=America/Chicago:20250809T170000
DURATION:PT1H0M0S
SUMMARY:7-Eleven vs. Baylor Heart Hospital
DESCRIPTION:Division B - City of Richardson Corporate Challenge<br>Sponsored by State Farm
LOCATION:Net Results Sports Center #1
CATEGORIES:QuickScores, Volleyball Game
TRANSP:OPAQUE
BEGIN:VALARM
TRIGGER:-PT2H
ACTION:DISPLAY
DESCRIPTION:7-Eleven vs. Baylor Heart Hospital
END:VALARM
END:VEVENT
BEGIN:VEVENT
UID:cc2-69815792-20250810T110000@quickscores.com
DTSTAMP:20260424T064500Z
DTSTART;TZID=America/Chicago:20250810T110000
DURATION:PT1H0M0S
SUMMARY:[C1] Texas Capital Bank vs. [A2] 7-Eleven
DESCRIPTION:Division B - City of Richardson Corporate Challenge<br>Sponsored by State Farm
LOCATION:Net Results Sports Center #2
CATEGORIES:QuickScores, Volleyball Game
TRANSP:OPAQUE
BEGIN:VALARM
TRIGGER:-PT2H
ACTION:DISPLAY
DESCRIPTION:[C1] Texas Capital Bank vs. [A2] 7-Eleven
END:VALARM
END:VEVENT
BEGIN:VEVENT
UID:cc2-69815790-20250810T110000@quickscores.com
DTSTAMP:20260424T064500Z
DTSTART;TZID=America/Chicago:20250810T110000
DURATION:PT1H0M0S
SUMMARY:[B2] Geico vs. [C2] HF Sinclair
DESCRIPTION:Division B - City of Richardson Corporate Challenge<br>Sponsored by State Farm
LOCATION:Net Results Sports Center #1
CATEGORIES:QuickScores, Volleyball Game
TRANSP:OPAQUE
BEGIN:VALARM
TRIGGER:-PT2H
ACTION:DISPLAY
DESCRIPTION:[B2] Geico vs. [C2] HF Sinclair
END:VALARM
END:VEVENT
BEGIN:VEVENT
UID:cc2-69815794-20250810T130000@quickscores.com
DTSTAMP:20260424T064500Z
DTSTART;TZID=America/Chicago:20250810T130000
DURATION:PT1H0M0S
SUMMARY:[B1] Globe Life vs. [A2] 7-Eleven
DESCRIPTION:Division B - City of Richardson Corporate Challenge<br>Sponsored by State Farm
LOCATION:Net Results Sports Center #2
CATEGORIES:QuickScores, Volleyball Game
TRANSP:OPAQUE
BEGIN:VALARM
TRIGGER:-PT2H
ACTION:DISPLAY
DESCRIPTION:[B1] Globe Life vs. [A2] 7-Eleven
END:VALARM
END:VEVENT
BEGIN:VEVENT
UID:cc2-69815793-20250810T130000@quickscores.com
DTSTAMP:20260424T064500Z
DTSTART;TZID=America/Chicago:20250810T130000
DURATION:PT1H0M0S
SUMMARY:[A1] Cisco vs. [C2] HF Sinclair
DESCRIPTION:Division B - City of Richardson Corporate Challenge<br>Sponsored by State Farm
LOCATION:Net Results Sports Center #1
CATEGORIES:QuickScores, Volleyball Game
TRANSP:OPAQUE
BEGIN:VALARM
TRIGGER:-PT2H
ACTION:DISPLAY
DESCRIPTION:[A1] Cisco vs. [C2] HF Sinclair
END:VALARM
END:VEVENT
BEGIN:VEVENT
UID:cc2-69815796-20250810T140000@quickscores.com
DTSTAMP:20260424T064500Z
DTSTART;TZID=America/Chicago:20250810T140000
DURATION:PT1H0M0S
SUMMARY:[A1] Cisco vs. [A2] 7-Eleven
DESCRIPTION:Division B - City of Richardson Corporate Challenge<br>Sponsored by State Farm
LOCATION:Net Results Sports Center #1
CATEGORIES:QuickScores, Volleyball Game
TRANSP:OPAQUE
BEGIN:VALARM
TRIGGER:-PT2H
ACTION:DISPLAY
DESCRIPTION:[A1] Cisco vs. [A2] 7-Eleven
END:VALARM
END:VEVENT
BEGIN:VEVENT
UID:cc2-69815795-20250810T140000@quickscores.com
DTSTAMP:20260424T064500Z
DTSTART;TZID=America/Chicago:20250810T140000
DURATION:PT1H0M0S
SUMMARY:[C2] HF Sinclair vs. [B1] Globe Life
DESCRIPTION:Division B - City of Richardson Corporate Challenge<br>Sponsored by State Farm
LOCATION:Net Results Sports Center #2
CATEGORIES:QuickScores, Volleyball Game
TRANSP:OPAQUE
BEGIN:VALARM
TRIGGER:-PT2H
ACTION:DISPLAY
DESCRIPTION:[C2] HF Sinclair vs. [B1] Globe Life
END:VALARM
END:VEVENT
END:VCALENDAR
