BEGIN:VCALENDAR
VERSION:2.0
PRODID:-//QuickScores.com//BQ Dynamic iCal Creator//EN
METHOD:PUBLISH
X-WR-CALNAME:C Division Women - 2025 Corporate Challenge
X-WR-CALDESC:QuickScores game calendar
X-PUBLISHED-TTL:PT24H
REFRESH-INTERVAL;VALUE=DURATION:PT24H
CALSCALE:GREGORIAN
BEGIN:VTIMEZONE
TZID:America/Chicago
X-LIC-LOCATION:America/Chicago
BEGIN:DAYLIGHT
TZNAME:CDT
TZOFFSETFROM:-0600
TZOFFSETTO:-0500
DTSTART:19700308T020000
RRULE:FREQ=YEARLY;BYMONTH=3;BYDAY=2SU
END:DAYLIGHT
BEGIN:STANDARD
TZNAME:CST
TZOFFSETFROM:-0500
TZOFFSETTO:-0600
DTSTART:19701101T020000
RRULE:FREQ=YEARLY;BYMONTH=11;BYDAY=1SU
END:STANDARD
END:VTIMEZONE
BEGIN:VEVENT
UID:cc2-69815735-20250818T183000@quickscores.com
DTSTAMP:20260419T135300Z
DTSTART;TZID=America/Chicago:20250818T183000
DURATION:PT1H0M0S
SUMMARY:Freese and Nichols vs. UTD
DESCRIPTION:C Division Women - City of Richardson Corporate Challenge<br>Sponsored by State Farm
LOCATION:UTD Tennis Center
CATEGORIES:QuickScores, Tennis Game
TRANSP:OPAQUE
BEGIN:VALARM
TRIGGER:-PT2H
ACTION:DISPLAY
DESCRIPTION:Freese and Nichols vs. UTD
END:VALARM
END:VEVENT
BEGIN:VEVENT
UID:cc2-69815736-20250818T183000@quickscores.com
DTSTAMP:20260419T135300Z
DTSTART;TZID=America/Chicago:20250818T183000
DURATION:PT1H0M0S
SUMMARY:Hilton vs. Fossil
DESCRIPTION:C Division Women - City of Richardson Corporate Challenge<br>Sponsored by State Farm
LOCATION:UTD Tennis Center
CATEGORIES:QuickScores, Tennis Game
TRANSP:OPAQUE
BEGIN:VALARM
TRIGGER:-PT2H
ACTION:DISPLAY
DESCRIPTION:Hilton vs. Fossil
END:VALARM
END:VEVENT
BEGIN:VEVENT
UID:cc2-69815737-20250818T193000@quickscores.com
DTSTAMP:20260419T135300Z
DTSTART;TZID=America/Chicago:20250818T193000
DURATION:PT1H0M0S
SUMMARY:ISN vs. Oncor
DESCRIPTION:C Division Women - City of Richardson Corporate Challenge<br>Sponsored by State Farm
LOCATION:UTD Tennis Center
CATEGORIES:QuickScores, Tennis Game
TRANSP:OPAQUE
BEGIN:VALARM
TRIGGER:-PT2H
ACTION:DISPLAY
DESCRIPTION:ISN vs. Oncor
END:VALARM
END:VEVENT
BEGIN:VEVENT
UID:cc2-69815738-20250818T193000@quickscores.com
DTSTAMP:20260419T135300Z
DTSTART;TZID=America/Chicago:20250818T193000
DURATION:PT1H0M0S
SUMMARY:CUTX vs. Leonardo DRS
DESCRIPTION:C Division Women - City of Richardson Corporate Challenge<br>Sponsored by State Farm
LOCATION:UTD Tennis Center
CATEGORIES:QuickScores, Tennis Game
TRANSP:OPAQUE
BEGIN:VALARM
TRIGGER:-PT2H
ACTION:DISPLAY
DESCRIPTION:CUTX vs. Leonardo DRS
END:VALARM
END:VEVENT
BEGIN:VEVENT
UID:cc2-69815739-20250818T200000@quickscores.com
DTSTAMP:20260419T135300Z
DTSTART;TZID=America/Chicago:20250818T200000
DURATION:PT1H0M0S
SUMMARY:Freese and Nichols vs. Fossil
DESCRIPTION:C Division Women - City of Richardson Corporate Challenge<br>Sponsored by State Farm
LOCATION:UTD Tennis Center
CATEGORIES:QuickScores, Tennis Game
TRANSP:OPAQUE
BEGIN:VALARM
TRIGGER:-PT2H
ACTION:DISPLAY
DESCRIPTION:Freese and Nichols vs. Fossil
END:VALARM
END:VEVENT
BEGIN:VEVENT
UID:cc2-69815742-20250818T203000@quickscores.com
DTSTAMP:20260419T135300Z
DTSTART;TZID=America/Chicago:20250818T203000
DURATION:PT1H0M0S
SUMMARY:Oncor vs. CUTX
DESCRIPTION:C Division Women - City of Richardson Corporate Challenge<br>Sponsored by State Farm
LOCATION:UTD Tennis Center
CATEGORIES:QuickScores, Tennis Game
TRANSP:OPAQUE
BEGIN:VALARM
TRIGGER:-PT2H
ACTION:DISPLAY
DESCRIPTION:Oncor vs. CUTX
END:VALARM
END:VEVENT
BEGIN:VEVENT
UID:cc2-69815741-20250818T203000@quickscores.com
DTSTAMP:20260419T135300Z
DTSTART;TZID=America/Chicago:20250818T203000
DURATION:PT1H0M0S
SUMMARY:UTD vs. Hilton
DESCRIPTION:C Division Women - City of Richardson Corporate Challenge<br>Sponsored by State Farm
LOCATION:UTD Tennis Center
CATEGORIES:QuickScores, Tennis Game
TRANSP:OPAQUE
BEGIN:VALARM
TRIGGER:-PT2H
ACTION:DISPLAY
DESCRIPTION:UTD vs. Hilton
END:VALARM
END:VEVENT
BEGIN:VEVENT
UID:cc2-69815740-20250818T203000@quickscores.com
DTSTAMP:20260419T135300Z
DTSTART;TZID=America/Chicago:20250818T203000
DURATION:PT1H0M0S
SUMMARY:ISN vs. Leonardo DRS
DESCRIPTION:C Division Women - City of Richardson Corporate Challenge<br>Sponsored by State Farm
LOCATION:UTD Tennis Center
CATEGORIES:QuickScores, Tennis Game
TRANSP:OPAQUE
BEGIN:VALARM
TRIGGER:-PT2H
ACTION:DISPLAY
DESCRIPTION:ISN vs. Leonardo DRS
END:VALARM
END:VEVENT
BEGIN:VEVENT
UID:cc2-69815743-20250819T183000@quickscores.com
DTSTAMP:20260419T135300Z
DTSTART;TZID=America/Chicago:20250819T183000
DURATION:PT1H0M0S
SUMMARY:ISN vs. Hilton
DESCRIPTION:C Division Women - City of Richardson Corporate Challenge<br>Sponsored by State Farm
LOCATION:UTD Tennis Center
CATEGORIES:QuickScores, Tennis Game
TRANSP:OPAQUE
BEGIN:VALARM
TRIGGER:-PT2H
ACTION:DISPLAY
DESCRIPTION:ISN vs. Hilton
END:VALARM
END:VEVENT
BEGIN:VEVENT
UID:cc2-69815744-20250819T183000@quickscores.com
DTSTAMP:20260419T135300Z
DTSTART;TZID=America/Chicago:20250819T183000
DURATION:PT1H0M0S
SUMMARY:Fossil vs. CUTX
DESCRIPTION:C Division Women - City of Richardson Corporate Challenge<br>Sponsored by State Farm
LOCATION:UTD Tennis Center
CATEGORIES:QuickScores, Tennis Game
TRANSP:OPAQUE
BEGIN:VALARM
TRIGGER:-PT2H
ACTION:DISPLAY
DESCRIPTION:Fossil vs. CUTX
END:VALARM
END:VEVENT
BEGIN:VEVENT
UID:cc2-69815745-20250819T183000@quickscores.com
DTSTAMP:20260419T135300Z
DTSTART;TZID=America/Chicago:20250819T183000
DURATION:PT1H0M0S
SUMMARY:Freese and Nichols vs. Leonardo DRS
DESCRIPTION:C Division Women - City of Richardson Corporate Challenge<br>Sponsored by State Farm
LOCATION:UTD Tennis Center
CATEGORIES:QuickScores, Tennis Game
TRANSP:OPAQUE
BEGIN:VALARM
TRIGGER:-PT2H
ACTION:DISPLAY
DESCRIPTION:Freese and Nichols vs. Leonardo DRS
END:VALARM
END:VEVENT
BEGIN:VEVENT
UID:cc2-69815746-20250819T200000@quickscores.com
DTSTAMP:20260419T135300Z
DTSTART;TZID=America/Chicago:20250819T200000
DURATION:PT1H0M0S
SUMMARY:ISN vs. Fossil
DESCRIPTION:C Division Women - City of Richardson Corporate Challenge<br>Sponsored by State Farm
LOCATION:UTD Tennis Center
CATEGORIES:QuickScores, Tennis Game
TRANSP:OPAQUE
BEGIN:VALARM
TRIGGER:-PT2H
ACTION:DISPLAY
DESCRIPTION:ISN vs. Fossil
END:VALARM
END:VEVENT
BEGIN:VEVENT
UID:cc2-69815747-20250820T183000@quickscores.com
DTSTAMP:20260419T135300Z
DTSTART;TZID=America/Chicago:20250820T183000
DURATION:PT1H0M0S
SUMMARY:Leonardo DRS vs. ISN
DESCRIPTION:C Division Women - City of Richardson Corporate Challenge<br>Sponsored by State Farm
LOCATION:UTD Tennis Center
CATEGORIES:QuickScores, Tennis Game
TRANSP:OPAQUE
BEGIN:VALARM
TRIGGER:-PT2H
ACTION:DISPLAY
DESCRIPTION:Leonardo DRS vs. ISN
END:VALARM
END:VEVENT
BEGIN:VEVENT
UID:cc2-69815748-20250820T193000@quickscores.com
DTSTAMP:20260419T135300Z
DTSTART;TZID=America/Chicago:20250820T193000
DURATION:PT1H0M0S
SUMMARY:Freese and Nichols vs. ISN
DESCRIPTION:C Division Women - City of Richardson Corporate Challenge<br>Sponsored by State Farm
LOCATION:UTD Tennis Center
CATEGORIES:QuickScores, Tennis Game
TRANSP:OPAQUE
BEGIN:VALARM
TRIGGER:-PT2H
ACTION:DISPLAY
DESCRIPTION:Freese and Nichols vs. ISN
END:VALARM
END:VEVENT
BEGIN:VEVENT
UID:cc2-69815749-20250820T203000@quickscores.com
DTSTAMP:20260419T135300Z
DTSTART;TZID=America/Chicago:20250820T203000
DURATION:PT1H0M0S
SUMMARY:ISN vs. Freese and Nichols
DESCRIPTION:C Division Women - City of Richardson Corporate Challenge<br>Sponsored by State Farm
LOCATION:UTD Tennis Center
CATEGORIES:QuickScores, Tennis Game
TRANSP:OPAQUE
BEGIN:VALARM
TRIGGER:-PT2H
ACTION:DISPLAY
DESCRIPTION:ISN vs. Freese and Nichols
END:VALARM
END:VEVENT
END:VCALENDAR
