BEGIN:VCALENDAR
VERSION:2.0
PRODID:-//QuickScores.com//BQ Dynamic iCal Creator//EN
METHOD:PUBLISH
X-WR-CALNAME:Division A - 2025 Corporate Challenge
X-WR-CALDESC:QuickScores game calendar
X-PUBLISHED-TTL:PT24H
REFRESH-INTERVAL;VALUE=DURATION:PT24H
CALSCALE:GREGORIAN
BEGIN:VTIMEZONE
TZID:America/Chicago
X-LIC-LOCATION:America/Chicago
BEGIN:DAYLIGHT
TZNAME:CDT
TZOFFSETFROM:-0600
TZOFFSETTO:-0500
DTSTART:19700308T020000
RRULE:FREQ=YEARLY;BYMONTH=3;BYDAY=2SU
END:DAYLIGHT
BEGIN:STANDARD
TZNAME:CST
TZOFFSETFROM:-0500
TZOFFSETTO:-0600
DTSTART:19701101T020000
RRULE:FREQ=YEARLY;BYMONTH=11;BYDAY=1SU
END:STANDARD
END:VTIMEZONE
BEGIN:VEVENT
UID:cc2-69888231-20250814T190000@quickscores.com
DTSTAMP:20260419T075000Z
DTSTART;TZID=America/Chicago:20250814T190000
DURATION:PT1H0M0S
SUMMARY:State Farm vs. EY
DESCRIPTION:Division A - City of Richardson Corporate Challenge<br>Sponsored by State Farm
LOCATION:PSA Murphy Court 4
CATEGORIES:QuickScores, Basketball Game
TRANSP:OPAQUE
BEGIN:VALARM
TRIGGER:-PT2H
ACTION:DISPLAY
DESCRIPTION:State Farm vs. EY
END:VALARM
END:VEVENT
BEGIN:VEVENT
UID:cc2-69888230-20250814T200000@quickscores.com
DTSTAMP:20260419T075000Z
DTSTART;TZID=America/Chicago:20250814T200000
DURATION:PT1H0M0S
SUMMARY:PepsiCo vs. Texas Instruments
DESCRIPTION:Division A - City of Richardson Corporate Challenge<br>Sponsored by State Farm
LOCATION:PSA Murphy Court 1
CATEGORIES:QuickScores, Basketball Game
TRANSP:OPAQUE
BEGIN:VALARM
TRIGGER:-PT2H
ACTION:DISPLAY
DESCRIPTION:PepsiCo vs. Texas Instruments
END:VALARM
END:VEVENT
BEGIN:VEVENT
UID:cc2-69888236-20250814T210000@quickscores.com
DTSTAMP:20260419T075000Z
DTSTART;TZID=America/Chicago:20250814T210000
DURATION:PT1H0M0S
SUMMARY:Mckesson vs. PepsiCo
DESCRIPTION:Division A - City of Richardson Corporate Challenge<br>Sponsored by State Farm
LOCATION:PSA Murphy Court 3
CATEGORIES:QuickScores, Basketball Game
TRANSP:OPAQUE
BEGIN:VALARM
TRIGGER:-PT2H
ACTION:DISPLAY
DESCRIPTION:Mckesson vs. PepsiCo
END:VALARM
END:VEVENT
BEGIN:VEVENT
UID:cc2-69888238-20250814T210000@quickscores.com
DTSTAMP:20260419T075000Z
DTSTART;TZID=America/Chicago:20250814T210000
DURATION:PT1H0M0S
SUMMARY:KPMG vs. Lennox
DESCRIPTION:Division A - City of Richardson Corporate Challenge<br>Sponsored by State Farm
LOCATION:PSA Murphy Court 2
CATEGORIES:QuickScores, Basketball Game
TRANSP:OPAQUE
BEGIN:VALARM
TRIGGER:-PT2H
ACTION:DISPLAY
DESCRIPTION:KPMG vs. Lennox
END:VALARM
END:VEVENT
BEGIN:VEVENT
UID:cc2-69888233-20250815T190000@quickscores.com
DTSTAMP:20260419T075000Z
DTSTART;TZID=America/Chicago:20250815T190000
DURATION:PT1H0M0S
SUMMARY:Texas Instruments vs. Mckesson
DESCRIPTION:Division A - City of Richardson Corporate Challenge<br>Sponsored by State Farm
LOCATION:PSA Murphy Court 4
CATEGORIES:QuickScores, Basketball Game
TRANSP:OPAQUE
BEGIN:VALARM
TRIGGER:-PT2H
ACTION:DISPLAY
DESCRIPTION:Texas Instruments vs. Mckesson
END:VALARM
END:VEVENT
BEGIN:VEVENT
UID:cc2-69888235-20250815T190000@quickscores.com
DTSTAMP:20260419T075000Z
DTSTART;TZID=America/Chicago:20250815T190000
DURATION:PT1H0M0S
SUMMARY:RTX vs. KPMG
DESCRIPTION:Division A - City of Richardson Corporate Challenge<br>Sponsored by State Farm
LOCATION:PSA Murphy Court 1
CATEGORIES:QuickScores, Basketball Game
TRANSP:OPAQUE
BEGIN:VALARM
TRIGGER:-PT2H
ACTION:DISPLAY
DESCRIPTION:RTX vs. KPMG
END:VALARM
END:VEVENT
BEGIN:VEVENT
UID:cc2-69888234-20250815T190000@quickscores.com
DTSTAMP:20260419T075000Z
DTSTART;TZID=America/Chicago:20250815T190000
DURATION:PT1H0M0S
SUMMARY:EY vs. Blue Cross Blue Shield
DESCRIPTION:Division A - City of Richardson Corporate Challenge<br>Sponsored by State Farm
LOCATION:PSA Murphy Court 3
CATEGORIES:QuickScores, Basketball Game
TRANSP:OPAQUE
BEGIN:VALARM
TRIGGER:-PT2H
ACTION:DISPLAY
DESCRIPTION:EY vs. Blue Cross Blue Shield
END:VALARM
END:VEVENT
BEGIN:VEVENT
UID:cc2-69888232-20250815T210000@quickscores.com
DTSTAMP:20260419T075000Z
DTSTART;TZID=America/Chicago:20250815T210000
DURATION:PT1H0M0S
SUMMARY:Lennox vs. RTX
DESCRIPTION:Division A - City of Richardson Corporate Challenge<br>Sponsored by State Farm
LOCATION:PSA Murphy Court 2
CATEGORIES:QuickScores, Basketball Game
TRANSP:OPAQUE
BEGIN:VALARM
TRIGGER:-PT2H
ACTION:DISPLAY
DESCRIPTION:Lennox vs. RTX
END:VALARM
END:VEVENT
BEGIN:VEVENT
UID:cc2-69888237-20250816T110000@quickscores.com
DTSTAMP:20260419T075000Z
DTSTART;TZID=America/Chicago:20250816T110000
DURATION:PT1H0M0S
SUMMARY:Blue Cross Blue Shield vs. State Farm
DESCRIPTION:Division A - City of Richardson Corporate Challenge<br>Sponsored by State Farm
LOCATION:PSA Murphy Court 2
CATEGORIES:QuickScores, Basketball Game
TRANSP:OPAQUE
BEGIN:VALARM
TRIGGER:-PT2H
ACTION:DISPLAY
DESCRIPTION:Blue Cross Blue Shield vs. State Farm
END:VALARM
END:VEVENT
BEGIN:VEVENT
UID:cc2-69807113-20250822T190000@quickscores.com
DTSTAMP:20260419T075000Z
DTSTART;TZID=America/Chicago:20250822T190000
DURATION:PT1H0M0S
SUMMARY:[C1] RTX vs. [A2] PepsiCo
DESCRIPTION:Division A - City of Richardson Corporate Challenge<br>Sponsored by State Farm
LOCATION:PSA1 Court #2
CATEGORIES:QuickScores, Basketball Game
TRANSP:OPAQUE
BEGIN:VALARM
TRIGGER:-PT2H
ACTION:DISPLAY
DESCRIPTION:[C1] RTX vs. [A2] PepsiCo
END:VALARM
END:VEVENT
BEGIN:VEVENT
UID:cc2-69807111-20250822T190000@quickscores.com
DTSTAMP:20260419T075000Z
DTSTART;TZID=America/Chicago:20250822T190000
DURATION:PT1H0M0S
SUMMARY:[B2] Blue Cross Blue Shield vs. [C2] KPMG
DESCRIPTION:Division A - City of Richardson Corporate Challenge<br>Sponsored by State Farm
LOCATION:PSA1 Court #4
CATEGORIES:QuickScores, Basketball Game
TRANSP:OPAQUE
BEGIN:VALARM
TRIGGER:-PT2H
ACTION:DISPLAY
DESCRIPTION:[B2] Blue Cross Blue Shield vs. [C2] KPMG
END:VALARM
END:VEVENT
BEGIN:VEVENT
UID:cc2-69807114-20250822T210000@quickscores.com
DTSTAMP:20260419T075000Z
DTSTART;TZID=America/Chicago:20250822T210000
DURATION:PT1H0M0S
SUMMARY:[A1] Texas Instruments vs. [C2] KPMG
DESCRIPTION:Division A - City of Richardson Corporate Challenge<br>Sponsored by State Farm
LOCATION:PSA1 Court #4
CATEGORIES:QuickScores, Basketball Game
TRANSP:OPAQUE
BEGIN:VALARM
TRIGGER:-PT2H
ACTION:DISPLAY
DESCRIPTION:[A1] Texas Instruments vs. [C2] KPMG
END:VALARM
END:VEVENT
BEGIN:VEVENT
UID:cc2-69807115-20250822T210000@quickscores.com
DTSTAMP:20260419T075000Z
DTSTART;TZID=America/Chicago:20250822T210000
DURATION:PT1H0M0S
SUMMARY:[B1] State Farm vs. [C1] RTX
DESCRIPTION:Division A - City of Richardson Corporate Challenge<br>Sponsored by State Farm
LOCATION:PSA1 Court #2
CATEGORIES:QuickScores, Basketball Game
TRANSP:OPAQUE
BEGIN:VALARM
TRIGGER:-PT2H
ACTION:DISPLAY
DESCRIPTION:[B1] State Farm vs. [C1] RTX
END:VALARM
END:VEVENT
BEGIN:VEVENT
UID:cc2-69807116-20250823T100000@quickscores.com
DTSTAMP:20260419T075000Z
DTSTART;TZID=America/Chicago:20250823T100000
DURATION:PT1H0M0S
SUMMARY:[C2] KPMG vs. [B1] State Farm
DESCRIPTION:Division A - City of Richardson Corporate Challenge<br>Sponsored by State Farm
LOCATION:PSA1 Court #3
CATEGORIES:QuickScores, Basketball Game
TRANSP:OPAQUE
BEGIN:VALARM
TRIGGER:-PT2H
ACTION:DISPLAY
DESCRIPTION:[C2] KPMG vs. [B1] State Farm
END:VALARM
END:VEVENT
BEGIN:VEVENT
UID:cc2-69807118-20250823T110000@quickscores.com
DTSTAMP:20260419T075000Z
DTSTART;TZID=America/Chicago:20250823T110000
DURATION:PT1H0M0S
SUMMARY:[A1] Texas Instruments vs. [C1] RTX
DESCRIPTION:Division A - City of Richardson Corporate Challenge<br>Sponsored by State Farm
LOCATION:PSA1 Court #3
CATEGORIES:QuickScores, Basketball Game
TRANSP:OPAQUE
BEGIN:VALARM
TRIGGER:-PT2H
ACTION:DISPLAY
DESCRIPTION:[A1] Texas Instruments vs. [C1] RTX
END:VALARM
END:VEVENT
END:VCALENDAR
